BEGIN:VCALENDAR
VERSION:2.0
PRODID:-//March Madness Marching Band - ECPv6.15.20//NONSGML v1.0//EN
CALSCALE:GREGORIAN
METHOD:PUBLISH
X-WR-CALNAME:March Madness Marching Band
X-ORIGINAL-URL:https://m-m-m-b.org
X-WR-CALDESC:Events for March Madness Marching Band
REFRESH-INTERVAL;VALUE=DURATION:PT1H
X-Robots-Tag:noindex
X-PUBLISHED-TTL:PT1H
BEGIN:VTIMEZONE
TZID:America/Kentucky/Louisville
BEGIN:DAYLIGHT
TZOFFSETFROM:-0500
TZOFFSETTO:-0400
TZNAME:EDT
DTSTART:20220313T070000
END:DAYLIGHT
BEGIN:STANDARD
TZOFFSETFROM:-0400
TZOFFSETTO:-0500
TZNAME:EST
DTSTART:20221106T060000
END:STANDARD
BEGIN:DAYLIGHT
TZOFFSETFROM:-0500
TZOFFSETTO:-0400
TZNAME:EDT
DTSTART:20230312T070000
END:DAYLIGHT
BEGIN:STANDARD
TZOFFSETFROM:-0400
TZOFFSETTO:-0500
TZNAME:EST
DTSTART:20231105T060000
END:STANDARD
BEGIN:DAYLIGHT
TZOFFSETFROM:-0500
TZOFFSETTO:-0400
TZNAME:EDT
DTSTART:20240310T070000
END:DAYLIGHT
BEGIN:STANDARD
TZOFFSETFROM:-0400
TZOFFSETTO:-0500
TZNAME:EST
DTSTART:20241103T060000
END:STANDARD
END:VTIMEZONE
BEGIN:VEVENT
DTSTART;TZID=America/Kentucky/Louisville:20230603T100000
DTEND;TZID=America/Kentucky/Louisville:20230603T120000
DTSTAMP:20260425T184700
CREATED:20230506T002729Z
LAST-MODIFIED:20230506T003319Z
UID:2016-1685786400-1685793600@m-m-m-b.org
SUMMARY:Great American Brass Band Festival
DESCRIPTION:11 am- Main Street Parade- Begins at Constitution Square park and travels down Main Street and ends at College Street. \n\nfromhttps://www.facebook.com/events/635164578424114 \n: \n \nThe 2023 GABBF is Danville KY’s premiere event and a gemstone of Kentucky’s music scene. Brass bands are invited from all over for one exciting weekend of FREE music from wind band to New Orleans style to jazz and everything in between! No matter what\, we celebrate awesome music and horns!   We’ve got the lineup to get you dancing!\n \nCheck out gabbf.org for more details\, including our lineup\, schedule\, and information about our infamous picnic tables and hospitality “brass” passes.
URL:https://m-m-m-b.org/event/great-american-brass-band-festival/
LOCATION:Main Street\, Danville\, 326 W. Main St.\, Danville\, KY\, 40422\, United States
CATEGORIES:performance
END:VEVENT
END:VCALENDAR