BEGIN:VCALENDAR
VERSION:2.0
PRODID:-//March Madness Marching Band - ECPv6.15.20//NONSGML v1.0//EN
CALSCALE:GREGORIAN
METHOD:PUBLISH
X-WR-CALNAME:March Madness Marching Band
X-ORIGINAL-URL:https://m-m-m-b.org
X-WR-CALDESC:Events for March Madness Marching Band
REFRESH-INTERVAL;VALUE=DURATION:PT1H
X-Robots-Tag:noindex
X-PUBLISHED-TTL:PT1H
BEGIN:VTIMEZONE
TZID:America/Kentucky/Louisville
BEGIN:DAYLIGHT
TZOFFSETFROM:-0500
TZOFFSETTO:-0400
TZNAME:EDT
DTSTART:20220313T070000
END:DAYLIGHT
BEGIN:STANDARD
TZOFFSETFROM:-0400
TZOFFSETTO:-0500
TZNAME:EST
DTSTART:20221106T060000
END:STANDARD
BEGIN:DAYLIGHT
TZOFFSETFROM:-0500
TZOFFSETTO:-0400
TZNAME:EDT
DTSTART:20230312T070000
END:DAYLIGHT
BEGIN:STANDARD
TZOFFSETFROM:-0400
TZOFFSETTO:-0500
TZNAME:EST
DTSTART:20231105T060000
END:STANDARD
BEGIN:DAYLIGHT
TZOFFSETFROM:-0500
TZOFFSETTO:-0400
TZNAME:EDT
DTSTART:20240310T070000
END:DAYLIGHT
BEGIN:STANDARD
TZOFFSETFROM:-0400
TZOFFSETTO:-0500
TZNAME:EST
DTSTART:20241103T060000
END:STANDARD
END:VTIMEZONE
BEGIN:VEVENT
DTSTART;TZID=America/Kentucky/Louisville:20230909T093000
DTEND;TZID=America/Kentucky/Louisville:20230909T233000
DTSTAMP:20260425T142217
CREATED:20230728T133312Z
LAST-MODIFIED:20230821T134308Z
UID:2052-1694251800-1694302200@m-m-m-b.org
SUMMARY:Lexington Roots & Heritage Festival Parade
DESCRIPTION:The parade starts moving at 10am. It begins at the intersection of East 4th Street and Elm Tree Lane\, weaves through the neighborhood\, and ends at the Lyric Theater. \n———- \nFor over 30 years the Roots and Heritage Festival has been a pinnacle of regional diversity providing entertainment & education for all ages. We invite you to join us and celebrate our rich heritage at our month-long events. \nThe colorful pageantry of the festival\, combined with its high quality offerings of cultural and educational programs\, has earned its recognition as one of the Top Twenty Events in the Southeast by the Southeast Tourism Society.
URL:https://m-m-m-b.org/event/lexington-roots-heritage-festival-parade-3/
LOCATION:Lyric Theater & Cultural Arts Center\, 300 E 3rd St\, Lexington\, KY\, 40508\, United States
CATEGORIES:performance
ATTACH;FMTTYPE=image/png:https://m-m-m-b.org/wp-content/uploads/2019/08/ROOTSLOGO-1.png
END:VEVENT
BEGIN:VEVENT
DTSTART;TZID=America/Kentucky/Louisville:20230915T183000
DTEND;TZID=America/Kentucky/Louisville:20230915T213000
DTSTAMP:20260425T142217
CREATED:20230828T012649Z
LAST-MODIFIED:20230828T012737Z
UID:2070-1694802600-1694813400@m-m-m-b.org
SUMMARY:Back to the 90’s--Summer Nights in Suburbia Season Finale
DESCRIPTION:MMMB performs at 7:45pm\n——-\nfrom event page:\nNVRMND is BACK at Moondance to celebrate the finale of the summer concert series!\nFriday\, September 15\, 2023\n6:30 – 9:30 p.m.\nMoondance Amphitheater\nBeaumont Centre\, 1152 Monarch St.\nLexington\, KY\nFeaturing:\n• Rebel Without a Cause 6:45 – 7:45 p.m.\n• March Madness Marching Band 7:45 – 8 p.m.\n• Nvrmnd 8 – 9:30 p.m.\nFood trucks | costume contest | children’s activities\n• Admission $8 or pay what you can (children 12 & under free)\n• Proceeds benefit the Moondance Foundation
URL:https://m-m-m-b.org/event/back-to-the-90s-summer-nights-in-suburbia-season-finale/
LOCATION:MoonDance Amphitheater\, 1152 Monarch St.\, Lexington\, KY\, 40513\, United States
CATEGORIES:performance
ATTACH;FMTTYPE=image/jpeg:https://m-m-m-b.org/wp-content/uploads/2023/08/moondance.jpg
END:VEVENT
END:VCALENDAR