BEGIN:VCALENDAR
VERSION:2.0
PRODID:-//March Madness Marching Band - ECPv6.15.20//NONSGML v1.0//EN
CALSCALE:GREGORIAN
METHOD:PUBLISH
X-ORIGINAL-URL:https://m-m-m-b.org
X-WR-CALDESC:Events for March Madness Marching Band
REFRESH-INTERVAL;VALUE=DURATION:PT1H
X-Robots-Tag:noindex
X-PUBLISHED-TTL:PT1H
BEGIN:VTIMEZONE
TZID:America/Kentucky/Louisville
BEGIN:DAYLIGHT
TZOFFSETFROM:-0500
TZOFFSETTO:-0400
TZNAME:EDT
DTSTART:20220313T070000
END:DAYLIGHT
BEGIN:STANDARD
TZOFFSETFROM:-0400
TZOFFSETTO:-0500
TZNAME:EST
DTSTART:20221106T060000
END:STANDARD
BEGIN:DAYLIGHT
TZOFFSETFROM:-0500
TZOFFSETTO:-0400
TZNAME:EDT
DTSTART:20230312T070000
END:DAYLIGHT
BEGIN:STANDARD
TZOFFSETFROM:-0400
TZOFFSETTO:-0500
TZNAME:EST
DTSTART:20231105T060000
END:STANDARD
BEGIN:DAYLIGHT
TZOFFSETFROM:-0500
TZOFFSETTO:-0400
TZNAME:EDT
DTSTART:20240310T070000
END:DAYLIGHT
BEGIN:STANDARD
TZOFFSETFROM:-0400
TZOFFSETTO:-0500
TZNAME:EST
DTSTART:20241103T060000
END:STANDARD
END:VTIMEZONE
BEGIN:VEVENT
DTSTART;TZID=America/Kentucky/Louisville:20231105T160000
DTEND;TZID=America/Kentucky/Louisville:20231105T190000
DTSTAMP:20260425T112344
CREATED:20230917T170718Z
LAST-MODIFIED:20231104T175210Z
UID:2076-1699200000-1699210800@m-m-m-b.org
SUMMARY:RESCHEDULED FOR 11/5--Thriller! Stage Showcase and Parade
DESCRIPTION:Update 10/29: Due to strong rains\, this event was postponed from Sunday 10/29 to Sunday 11/5. It will take place at the Masterson Station Park fairgrounds. \n\nHalloween Variety Show | 4:00pm\nThriller Parade | 5:00pm\n\nIn 2023\, MMMB will present the stage show The Last Circus on Earth! \n———- \nCurated by Mecca Live Studio\, this stage show features a DJ spinning spooky tunes and Halloween inspired performances by Lexington area arts groups such as Mecca\, Dance Attack\, Traci Stone Dance Studio\, the March Madness Marching Band\, and many more. \nThis annual tradition has become a local must-do event as Halloween enthusiasts of all ages descend on downtown Lexington to celebrate the season. Lexington’s largest\, free Halloween party will kick off with Halloween-inspired art and performances and will culminate with the Halloween Parade and Thriller reenactment. Food and beverage vendors will be onsite serving up good eats and treats.
URL:https://m-m-m-b.org/event/thriller-night-stage-showcase-and-halloween-parade/
LOCATION:Masterson Station Park Fairgrounds\, 3051 Leestown Rd\, Lexington\, KY\, 40511\, United States
CATEGORIES:performance
ATTACH;FMTTYPE=image/jpeg:https://m-m-m-b.org/wp-content/uploads/2023/09/circus-2016.jpg
END:VEVENT
END:VCALENDAR