BEGIN:VCALENDAR
VERSION:2.0
PRODID:-//March Madness Marching Band - ECPv6.15.20//NONSGML v1.0//EN
CALSCALE:GREGORIAN
METHOD:PUBLISH
X-ORIGINAL-URL:https://m-m-m-b.org
X-WR-CALDESC:Events for March Madness Marching Band
REFRESH-INTERVAL;VALUE=DURATION:PT1H
X-Robots-Tag:noindex
X-PUBLISHED-TTL:PT1H
BEGIN:VTIMEZONE
TZID:America/Kentucky/Louisville
BEGIN:DAYLIGHT
TZOFFSETFROM:-0500
TZOFFSETTO:-0400
TZNAME:EDT
DTSTART:20230312T070000
END:DAYLIGHT
BEGIN:STANDARD
TZOFFSETFROM:-0400
TZOFFSETTO:-0500
TZNAME:EST
DTSTART:20231105T060000
END:STANDARD
BEGIN:DAYLIGHT
TZOFFSETFROM:-0500
TZOFFSETTO:-0400
TZNAME:EDT
DTSTART:20240310T070000
END:DAYLIGHT
BEGIN:STANDARD
TZOFFSETFROM:-0400
TZOFFSETTO:-0500
TZNAME:EST
DTSTART:20241103T060000
END:STANDARD
BEGIN:DAYLIGHT
TZOFFSETFROM:-0500
TZOFFSETTO:-0400
TZNAME:EDT
DTSTART:20250309T070000
END:DAYLIGHT
BEGIN:STANDARD
TZOFFSETFROM:-0400
TZOFFSETTO:-0500
TZNAME:EST
DTSTART:20251102T060000
END:STANDARD
END:VTIMEZONE
BEGIN:VEVENT
DTSTART;TZID=America/Kentucky/Louisville:20240831T160000
DTEND;TZID=America/Kentucky/Louisville:20240831T163000
DTSTAMP:20260424T235258
CREATED:20240816T014217Z
LAST-MODIFIED:20240826T164152Z
UID:2229-1725120000-1725121800@m-m-m-b.org
SUMMARY:Play Music on the Porch Day (Kenwick Porch Fest)
DESCRIPTION:As part of the 2nd annual international Play Music on the Porch Day\, MMMB will kick off the Kenwick Porch Fest at 4pm \nA Google Map of the whole Kenwick Porch Fest shows our location as #22
URL:https://m-m-m-b.org/event/play-music-on-the-porch-day-2/
LOCATION:MMMB at Kenwick Porch Fest 2024\, 116 Lincoln Ave\, Lexington\, KY\, 40502\, United States
CATEGORIES:performance
END:VEVENT
END:VCALENDAR