BEGIN:VCALENDAR
VERSION:2.0
PRODID:-//March Madness Marching Band - ECPv6.15.20//NONSGML v1.0//EN
CALSCALE:GREGORIAN
METHOD:PUBLISH
X-ORIGINAL-URL:https://m-m-m-b.org
X-WR-CALDESC:Events for March Madness Marching Band
REFRESH-INTERVAL;VALUE=DURATION:PT1H
X-Robots-Tag:noindex
X-PUBLISHED-TTL:PT1H
BEGIN:VTIMEZONE
TZID:America/Kentucky/Louisville
BEGIN:DAYLIGHT
TZOFFSETFROM:-0500
TZOFFSETTO:-0400
TZNAME:EDT
DTSTART:20240310T070000
END:DAYLIGHT
BEGIN:STANDARD
TZOFFSETFROM:-0400
TZOFFSETTO:-0500
TZNAME:EST
DTSTART:20241103T060000
END:STANDARD
BEGIN:DAYLIGHT
TZOFFSETFROM:-0500
TZOFFSETTO:-0400
TZNAME:EDT
DTSTART:20250309T070000
END:DAYLIGHT
BEGIN:STANDARD
TZOFFSETFROM:-0400
TZOFFSETTO:-0500
TZNAME:EST
DTSTART:20251102T060000
END:STANDARD
BEGIN:DAYLIGHT
TZOFFSETFROM:-0500
TZOFFSETTO:-0400
TZNAME:EDT
DTSTART:20260308T070000
END:DAYLIGHT
BEGIN:STANDARD
TZOFFSETFROM:-0400
TZOFFSETTO:-0500
TZNAME:EST
DTSTART:20261101T060000
END:STANDARD
END:VTIMEZONE
BEGIN:VEVENT
DTSTART;TZID=America/Kentucky/Louisville:20250504T140000
DTEND;TZID=America/Kentucky/Louisville:20250504T160000
DTSTAMP:20260424T123718
CREATED:20250409T005927Z
LAST-MODIFIED:20250409T005927Z
UID:2324-1746367200-1746374400@m-m-m-b.org
SUMMARY:May the Fourth Be with You
DESCRIPTION:MMMB will perform at the annual Star Wars-themed community event. \nfrom https://www.lexingtonky.gov/calendar/2025-05-04/may-fourth-celebration \nIs The Force strong in you? Dress the part and tell your Wookiee friends about our May the Fourth Star Wars celebration\, this year at McConnell Springs Park! Activities will line the forest trail\, including food trucks\, performances\, music\, a photo booth\, and Star Wars-themed printmaking. Dark side or rebel scum\, all forces will unite for a night of fandom fun in celebration of the galaxy far far away! This event is free and open to the public\, no registration is required.
URL:https://m-m-m-b.org/event/may-the-fourth-be-with-you-2/
LOCATION:McConnell Springs Park\, 416 Rebmann Lane\, Lexington\, KY\, 40504\, United States
CATEGORIES:performance
ATTACH;FMTTYPE=image/jpeg:https://m-m-m-b.org/wp-content/uploads/2024/04/IMG_3937-scaled.jpg
END:VEVENT
BEGIN:VEVENT
DTSTART;TZID=America/Kentucky/Louisville:20250510T090000
DTEND;TZID=America/Kentucky/Louisville:20250510T110000
DTSTAMP:20260424T123718
CREATED:20250409T010310Z
LAST-MODIFIED:20250409T010310Z
UID:2326-1746867600-1746874800@m-m-m-b.org
SUMMARY:Central Kentucky Heart Walk
DESCRIPTION:Saturday\, May 10\, 2025\nCheck-In 8:00am | Walk Begins 9:00am \nKeeneland Association\n4201 Versailles Road | Lexington\, KY 40510 \nRoute Length: 1 and 3-Mile options \n\n\n\n\nThe Heart Walk is a fun\, family-friendly event that brings our community together to get active\, raise life-saving funds\, and support the mission of the American Heart Association. Whether you’re a seasoned walker or just looking for a great day out\, join us to celebrate heart health\, honor survivors\, and remember loved ones affected by heart disease and stroke. Lace up your sneakers for a day filled with music\, activities\, and camaraderie. Through fundraising and community engagement\, the Heart Walk aims to enhance CPR training accessibility\, bolster bystander preparedness\, increase funding for vital research\, and ultimately\, save lives.
URL:https://m-m-m-b.org/event/central-kentucky-heart-walk-5/
LOCATION:Keeneland\, 4201 Versailles Rd.\, Lexington\, KY\, 40510\, United States
CATEGORIES:performance
END:VEVENT
BEGIN:VEVENT
DTSTART;TZID=America/Kentucky/Louisville:20250524T120000
DTEND;TZID=America/Kentucky/Louisville:20250524T130000
DTSTAMP:20260424T123718
CREATED:20250510T012240Z
LAST-MODIFIED:20250510T012240Z
UID:2335-1748088000-1748091600@m-m-m-b.org
SUMMARY:DiverCity Festival
DESCRIPTION:MMMB kicks off the festival with a performance at noon! \n—– \nThe DiverCity Festival will be in downtown Lexington on May 24\, 2025! This FREE festival aims to educate\, embrace and celebrate the multitude of cultures that enrich the city of Lexington!\n \nWe cordially invite all of our friends\, family and neighbors to join us for amazing performances\, entertainment\, vendors\, food\, and drinks.
URL:https://m-m-m-b.org/event/divercity-festival-3/
LOCATION:Robert Stephens Courthouse Plaza\, 120 North Limestone Street\, Lexington\, KY\, 40507\, United States
CATEGORIES:performance
ATTACH;FMTTYPE=image/jpeg:https://m-m-m-b.org/wp-content/uploads/2025/05/447016117_10111469976911250_8733637346688172916_n.jpg
ORGANIZER;CN="DiverCity Lexington":MAILTO:divercitylexington@gmail.com
END:VEVENT
END:VCALENDAR