BEGIN:VCALENDAR
VERSION:2.0
PRODID:-//March Madness Marching Band - ECPv6.15.20//NONSGML v1.0//EN
CALSCALE:GREGORIAN
METHOD:PUBLISH
X-WR-CALNAME:March Madness Marching Band
X-ORIGINAL-URL:https://m-m-m-b.org
X-WR-CALDESC:Events for March Madness Marching Band
REFRESH-INTERVAL;VALUE=DURATION:PT1H
X-Robots-Tag:noindex
X-PUBLISHED-TTL:PT1H
BEGIN:VTIMEZONE
TZID:America/Kentucky/Louisville
BEGIN:DAYLIGHT
TZOFFSETFROM:-0500
TZOFFSETTO:-0400
TZNAME:EDT
DTSTART:20240310T070000
END:DAYLIGHT
BEGIN:STANDARD
TZOFFSETFROM:-0400
TZOFFSETTO:-0500
TZNAME:EST
DTSTART:20241103T060000
END:STANDARD
BEGIN:DAYLIGHT
TZOFFSETFROM:-0500
TZOFFSETTO:-0400
TZNAME:EDT
DTSTART:20250309T070000
END:DAYLIGHT
BEGIN:STANDARD
TZOFFSETFROM:-0400
TZOFFSETTO:-0500
TZNAME:EST
DTSTART:20251102T060000
END:STANDARD
BEGIN:DAYLIGHT
TZOFFSETFROM:-0500
TZOFFSETTO:-0400
TZNAME:EDT
DTSTART:20260308T070000
END:DAYLIGHT
BEGIN:STANDARD
TZOFFSETFROM:-0400
TZOFFSETTO:-0500
TZNAME:EST
DTSTART:20261101T060000
END:STANDARD
END:VTIMEZONE
BEGIN:VEVENT
DTSTART;TZID=America/Kentucky/Louisville:20250628T110000
DTEND;TZID=America/Kentucky/Louisville:20250628T123000
DTSTAMP:20260424T112743
CREATED:20250613T145600Z
LAST-MODIFIED:20250626T011623Z
UID:2358-1751108400-1751113800@m-m-m-b.org
SUMMARY:Lexington Pride Festival Parade!
DESCRIPTION:For the first time\, the Lexington Pride Festival will include a PARADE! The half-mile parade route starts at the West High Street end of Oliver Lewis Way at 11:30am and proceeds toward South Broadway. \nMarch Madness Marching Band is so excited to help the Lexington Pride Festival make history! \nThe festival begins at 11am and runs until 9pm. \nFor more information on the festival\, visit https://www.lexpridefest.org/festivalinfo \n—————— \nThe Lexington Pride Festival is a community celebration to empower and bring awareness to the intersectional lives of LGBTQIA+ Kentuckians. The event means something different to everyone\, but there are some common themes we hear when we ask what it means to attendees. Belonging. Freedom. Safety. Acceptance. Love.  \nWhile the Lexington Pride Festival is a lot of fun\, it’s so much more than just a party. It’s a day to remember\, to protest\, to make change\, to connect\, and to learn. The festival consists of live entertainment\, speakers\, a diverse array of vendors\, food and drink\, community booths\, and activities. \nThe festival is an event of the Lexington Pride Center\, 501(c)(3) nonprofit organization.
URL:https://m-m-m-b.org/event/lexington-pride-festival-parade/
LOCATION:Oliver Lewis Way\, Lexington\, KY\, United States
CATEGORIES:performance
ATTACH;FMTTYPE=image/jpeg:https://m-m-m-b.org/wp-content/uploads/2024/05/MMMB-at-Pride-scaled.jpg
END:VEVENT
END:VCALENDAR