BEGIN:VCALENDAR
VERSION:2.0
PRODID:-//March Madness Marching Band - ECPv6.15.20//NONSGML v1.0//EN
CALSCALE:GREGORIAN
METHOD:PUBLISH
X-WR-CALNAME:March Madness Marching Band
X-ORIGINAL-URL:https://m-m-m-b.org
X-WR-CALDESC:Events for March Madness Marching Band
REFRESH-INTERVAL;VALUE=DURATION:PT1H
X-Robots-Tag:noindex
X-PUBLISHED-TTL:PT1H
BEGIN:VTIMEZONE
TZID:America/Kentucky/Louisville
BEGIN:DAYLIGHT
TZOFFSETFROM:-0500
TZOFFSETTO:-0400
TZNAME:EDT
DTSTART:20240310T070000
END:DAYLIGHT
BEGIN:STANDARD
TZOFFSETFROM:-0400
TZOFFSETTO:-0500
TZNAME:EST
DTSTART:20241103T060000
END:STANDARD
BEGIN:DAYLIGHT
TZOFFSETFROM:-0500
TZOFFSETTO:-0400
TZNAME:EDT
DTSTART:20250309T070000
END:DAYLIGHT
BEGIN:STANDARD
TZOFFSETFROM:-0400
TZOFFSETTO:-0500
TZNAME:EST
DTSTART:20251102T060000
END:STANDARD
BEGIN:DAYLIGHT
TZOFFSETFROM:-0500
TZOFFSETTO:-0400
TZNAME:EDT
DTSTART:20260308T070000
END:DAYLIGHT
BEGIN:STANDARD
TZOFFSETFROM:-0400
TZOFFSETTO:-0500
TZNAME:EST
DTSTART:20261101T060000
END:STANDARD
END:VTIMEZONE
BEGIN:VEVENT
DTSTART;TZID=America/Kentucky/Louisville:20250823T160000
DTEND;TZID=America/Kentucky/Louisville:20250823T163000
DTSTAMP:20260424T085833
CREATED:20250817T012733Z
LAST-MODIFIED:20250817T012733Z
UID:2394-1755964800-1755966600@m-m-m-b.org
SUMMARY:Kenwick Porch Fest
DESCRIPTION:March Madness Marching Band will kick off the annual Porch Fest with a performance outside the Kenwick Community Center. Join us\, then check out performances throughout the Kenwick neighborhood\, from 4pm to 7pm. \nList and map: \n2025 Kenwick Porch Fest Map & Lineup 
URL:https://m-m-m-b.org/event/kenwick-porch-fest/
LOCATION:Kenwick Community Center\, 313 Owsley Ave\, Lexington\, KY\, United States
CATEGORIES:performance
ATTACH;FMTTYPE=image/jpeg:https://m-m-m-b.org/wp-content/uploads/2025/08/533764619_122140064204419331_448836571182776973_n.jpg
END:VEVENT
END:VCALENDAR