BEGIN:VCALENDAR
VERSION:2.0
PRODID:-//March Madness Marching Band - ECPv6.15.20//NONSGML v1.0//EN
CALSCALE:GREGORIAN
METHOD:PUBLISH
X-WR-CALNAME:March Madness Marching Band
X-ORIGINAL-URL:https://m-m-m-b.org
X-WR-CALDESC:Events for March Madness Marching Band
REFRESH-INTERVAL;VALUE=DURATION:PT1H
X-Robots-Tag:noindex
X-PUBLISHED-TTL:PT1H
BEGIN:VTIMEZONE
TZID:America/Kentucky/Louisville
BEGIN:DAYLIGHT
TZOFFSETFROM:-0500
TZOFFSETTO:-0400
TZNAME:EDT
DTSTART:20240310T070000
END:DAYLIGHT
BEGIN:STANDARD
TZOFFSETFROM:-0400
TZOFFSETTO:-0500
TZNAME:EST
DTSTART:20241103T060000
END:STANDARD
BEGIN:DAYLIGHT
TZOFFSETFROM:-0500
TZOFFSETTO:-0400
TZNAME:EDT
DTSTART:20250309T070000
END:DAYLIGHT
BEGIN:STANDARD
TZOFFSETFROM:-0400
TZOFFSETTO:-0500
TZNAME:EST
DTSTART:20251102T060000
END:STANDARD
BEGIN:DAYLIGHT
TZOFFSETFROM:-0500
TZOFFSETTO:-0400
TZNAME:EDT
DTSTART:20260308T070000
END:DAYLIGHT
BEGIN:STANDARD
TZOFFSETFROM:-0400
TZOFFSETTO:-0500
TZNAME:EST
DTSTART:20261101T060000
END:STANDARD
END:VTIMEZONE
BEGIN:VEVENT
DTSTART;TZID=America/Kentucky/Louisville:20251206T110000
DTEND;TZID=America/Kentucky/Louisville:20251206T130000
DTSTAMP:20260424T035833
CREATED:20251030T001431Z
LAST-MODIFIED:20251030T001431Z
UID:2438-1765018800-1765026000@m-m-m-b.org
SUMMARY:Downtown Lexington Christmas Parade
DESCRIPTION:From https://www.downtownlex.com/signature-events/luminate-lexington/: \nSanta Claus is coming to (down)town! The most wonderful time of the year is just around the corner and we couldn’t be more excited! \nWe hope you’ll join us on December 6th at 11am for the Downtown Lexington Christmas Parade! The parade will feature a variety of organizations\, bands\, floats\, and of course\, Santa himself! \nMain Street\, starting at Midland Avenue and ending at Mill Street
URL:https://m-m-m-b.org/event/downtown-lexington-christmas-parade-4/
LOCATION:Main Street\, Lexington\, Lexington\, KY\, 40507\, United States
CATEGORIES:performance
END:VEVENT
BEGIN:VEVENT
DTSTART;TZID=America/Kentucky/Louisville:20251206T180000
DTEND;TZID=America/Kentucky/Louisville:20251206T193000
DTSTAMP:20260424T035833
CREATED:20251130T213528Z
LAST-MODIFIED:20251130T213528Z
UID:2442-1765044000-1765049400@m-m-m-b.org
SUMMARY:Georgetown Christmas Parade
DESCRIPTION:from https://georgetownky.com/events: \nCome “Home for the Holidays\,” on December 6nd when Georgetown/Scott County Tourism Commission presents its annual Christmas tree lighting and parade\, activities and open houses. Picturesque with its Victorian streetscape and buildings – 200 are listed on the National Registry of Historic Places – downtown Georgetown will be decorated for the holidays and ready to welcome Santa during the parade at 6pm. 
URL:https://m-m-m-b.org/event/georgetown-christmas-parade-3/
LOCATION:Downtown Georgetown\, Georgetown\, KY\, United States
CATEGORIES:performance
END:VEVENT
END:VCALENDAR