BEGIN:VCALENDAR
VERSION:2.0
PRODID:-//March Madness Marching Band - ECPv6.15.20//NONSGML v1.0//EN
CALSCALE:GREGORIAN
METHOD:PUBLISH
X-ORIGINAL-URL:https://m-m-m-b.org
X-WR-CALDESC:Events for March Madness Marching Band
REFRESH-INTERVAL;VALUE=DURATION:PT1H
X-Robots-Tag:noindex
X-PUBLISHED-TTL:PT1H
BEGIN:VTIMEZONE
TZID:America/Kentucky/Louisville
BEGIN:DAYLIGHT
TZOFFSETFROM:-0500
TZOFFSETTO:-0400
TZNAME:EDT
DTSTART:20180311T070000
END:DAYLIGHT
BEGIN:STANDARD
TZOFFSETFROM:-0400
TZOFFSETTO:-0500
TZNAME:EST
DTSTART:20181104T060000
END:STANDARD
BEGIN:DAYLIGHT
TZOFFSETFROM:-0500
TZOFFSETTO:-0400
TZNAME:EDT
DTSTART:20190310T070000
END:DAYLIGHT
BEGIN:STANDARD
TZOFFSETFROM:-0400
TZOFFSETTO:-0500
TZNAME:EST
DTSTART:20191103T060000
END:STANDARD
BEGIN:DAYLIGHT
TZOFFSETFROM:-0500
TZOFFSETTO:-0400
TZNAME:EDT
DTSTART:20200308T070000
END:DAYLIGHT
BEGIN:STANDARD
TZOFFSETFROM:-0400
TZOFFSETTO:-0500
TZNAME:EST
DTSTART:20201101T060000
END:STANDARD
END:VTIMEZONE
BEGIN:VEVENT
DTSTART;TZID=America/Kentucky/Louisville:20190915T160000
DTEND;TZID=America/Kentucky/Louisville:20190915T180000
DTSTAMP:20260425T141154
CREATED:20190831T151103Z
LAST-MODIFIED:20190831T151103Z
UID:1389-1568563200-1568570400@m-m-m-b.org
SUMMARY:Rehearsal
DESCRIPTION:Want to join our band of merry-makers? We welcome all ages and skill levels! \nMMMB ordinarily practices every Sunday afternoon at Artworks at the Carver School\, 522 Patterson Street. The color guard and musicians usually rehearse in separate second floor classrooms\, with a joint period of announcements in the middle: \n–3:45-4:00 pm\, musicians arrive; warm-up \n–4:00-6:00\, color guard and musicians rehearse \n–break at 5-ish for announcements \nSome weeks\, when the color guard and musicians need to practice together\, the timing may be different. Some weeks\, the practice location may be different. Due to holidays and scheduling conflicts\, there will not be any practice some weeks. All schedule changes will be reflected on Gig-o-Matic and shared via MMMB’s Google listserv email. \nAre kids and other guests welcome at practice?  \nKids who are serious about practicing are very welcome\, at the discretion of the Minister of the Grooves and the Ministers of the Moves. A parent/guardian should stay for practice\, as no one else in MMMB can take responsibility for watching them. Some teens who have demonstrated commitment to practice diligently may not need parents/guardians to stay\, but please know that they are not supervised at practice or at events. We have been very fortunate to have some awesome teen monkeys!  \nGuests are welcome to observe practice quietly\, and parents/guardians need to keep an eye on their own kids. There are not any extra adults to watch them\, and band members need to be able to concentrate on practice. Kids must keep themselves occupied and quiet. Even though we are a fun bunch\, we take practice seriously!
URL:https://m-m-m-b.org/event/rehearsal-11/
LOCATION:Artworks at the Carver School\, 522 Patterson St.\, Lexington\, KY\, 40508\, United States
CATEGORIES:rehearsal
ORGANIZER;CN="March Madness Marching Band":MAILTO:info@m-m-m-b.org
END:VEVENT
BEGIN:VEVENT
DTSTART;TZID=America/Kentucky/Louisville:20190818T160000
DTEND;TZID=America/Kentucky/Louisville:20190818T180000
DTSTAMP:20260425T141154
CREATED:20190627T143614Z
LAST-MODIFIED:20190627T143614Z
UID:1343-1566144000-1566151200@m-m-m-b.org
SUMMARY:Rehearsal
DESCRIPTION:Want to join our band of merry-makers? We welcome all ages and skill levels! \nMMMB ordinarily practices every Sunday afternoon at Artworks at the Carver School\, 522 Patterson Street. The color guard and musicians usually rehearse in separate second floor classrooms\, with a joint period of announcements in the middle: \n–3:45-4:00 pm\, musicians arrive; warm-up \n–4:00-6:00\, color guard and musicians rehearse \n–break at 5-ish for announcements \nSome weeks\, when the color guard and musicians need to practice together\, the timing may be different. Some weeks\, the practice location may be different. Due to holidays and scheduling conflicts\, there will not be any practice some weeks. All schedule changes will be reflected on Gig-o-Matic and shared via MMMB’s Google listserv email. \nAre kids and other guests welcome at practice?  \nKids who are serious about practicing are very welcome\, at the discretion of the Minister of the Grooves and the Ministers of the Moves. A parent/guardian should stay for practice\, as no one else in MMMB can take responsibility for watching them. Some teens who have demonstrated commitment to practice diligently may not need parents/guardians to stay\, but please know that they are not supervised at practice or at events. We have been very fortunate to have some awesome teen monkeys!  \nGuests are welcome to observe practice quietly\, and parents/guardians need to keep an eye on their own kids. There are not any extra adults to watch them\, and band members need to be able to concentrate on practice. Kids must keep themselves occupied and quiet. Even though we are a fun bunch\, we take practice seriously!
URL:https://m-m-m-b.org/event/rehearsal-10/
LOCATION:Artworks at the Carver School\, 522 Patterson St.\, Lexington\, KY\, 40508\, United States
CATEGORIES:rehearsal
ORGANIZER;CN="March Madness Marching Band":MAILTO:info@m-m-m-b.org
END:VEVENT
BEGIN:VEVENT
DTSTART;TZID=America/Kentucky/Louisville:20190811T160000
DTEND;TZID=America/Kentucky/Louisville:20190811T180000
DTSTAMP:20260425T141154
CREATED:20190627T143519Z
LAST-MODIFIED:20190627T143519Z
UID:1341-1565539200-1565546400@m-m-m-b.org
SUMMARY:Rehearsal
DESCRIPTION:Want to join our band of merry-makers? We welcome all ages and skill levels! \nMMMB ordinarily practices every Sunday afternoon at Artworks at the Carver School\, 522 Patterson Street. The color guard and musicians usually rehearse in separate second floor classrooms\, with a joint period of announcements in the middle: \n–3:45-4:00 pm\, musicians arrive; warm-up \n–4:00-6:00\, color guard and musicians rehearse \n–break at 5-ish for announcements \nSome weeks\, when the color guard and musicians need to practice together\, the timing may be different. Some weeks\, the practice location may be different. Due to holidays and scheduling conflicts\, there will not be any practice some weeks. All schedule changes will be reflected on Gig-o-Matic and shared via MMMB’s Google listserv email. \nAre kids and other guests welcome at practice?  \nKids who are serious about practicing are very welcome\, at the discretion of the Minister of the Grooves and the Ministers of the Moves. A parent/guardian should stay for practice\, as no one else in MMMB can take responsibility for watching them. Some teens who have demonstrated commitment to practice diligently may not need parents/guardians to stay\, but please know that they are not supervised at practice or at events. We have been very fortunate to have some awesome teen monkeys!  \nGuests are welcome to observe practice quietly\, and parents/guardians need to keep an eye on their own kids. There are not any extra adults to watch them\, and band members need to be able to concentrate on practice. Kids must keep themselves occupied and quiet. Even though we are a fun bunch\, we take practice seriously!
URL:https://m-m-m-b.org/event/rehearsal-9/
LOCATION:Artworks at the Carver School\, 522 Patterson St.\, Lexington\, KY\, 40508\, United States
CATEGORIES:rehearsal
ORGANIZER;CN="March Madness Marching Band":MAILTO:info@m-m-m-b.org
END:VEVENT
BEGIN:VEVENT
DTSTART;TZID=America/Kentucky/Louisville:20190804T160000
DTEND;TZID=America/Kentucky/Louisville:20190804T180000
DTSTAMP:20260425T141154
CREATED:20190627T143342Z
LAST-MODIFIED:20190627T143342Z
UID:1339-1564934400-1564941600@m-m-m-b.org
SUMMARY:Rehearsal
DESCRIPTION:Want to join our band of merry-makers? We welcome all ages and skill levels! \nMMMB ordinarily practices every Sunday afternoon at Artworks at the Carver School\, 522 Patterson Street. The color guard and musicians usually rehearse in separate second floor classrooms\, with a joint period of announcements in the middle: \n–3:45-4:00 pm\, musicians arrive; warm-up \n–4:00-6:00\, color guard and musicians rehearse \n–break at 5-ish for announcements \nSome weeks\, when the color guard and musicians need to practice together\, the timing may be different. Some weeks\, the practice location may be different. Due to holidays and scheduling conflicts\, there will not be any practice some weeks. All schedule changes will be reflected on Gig-o-Matic and shared via MMMB’s Google listserv email. \nAre kids and other guests welcome at practice?  \nKids who are serious about practicing are very welcome\, at the discretion of the Minister of the Grooves and the Ministers of the Moves. A parent/guardian should stay for practice\, as no one else in MMMB can take responsibility for watching them. Some teens who have demonstrated commitment to practice diligently may not need parents/guardians to stay\, but please know that they are not supervised at practice or at events. We have been very fortunate to have some awesome teen monkeys!  \nGuests are welcome to observe practice quietly\, and parents/guardians need to keep an eye on their own kids. There are not any extra adults to watch them\, and band members need to be able to concentrate on practice. Kids must keep themselves occupied and quiet. Even though we are a fun bunch\, we take practice seriously!
URL:https://m-m-m-b.org/event/rehearsal-8/
LOCATION:Artworks at the Carver School\, 522 Patterson St.\, Lexington\, KY\, 40508\, United States
CATEGORIES:rehearsal
ORGANIZER;CN="March Madness Marching Band":MAILTO:info@m-m-m-b.org
END:VEVENT
BEGIN:VEVENT
DTSTART;TZID=America/Kentucky/Louisville:20190728T160000
DTEND;TZID=America/Kentucky/Louisville:20190728T180000
DTSTAMP:20260425T141154
CREATED:20190627T143229Z
LAST-MODIFIED:20190627T143229Z
UID:1337-1564329600-1564336800@m-m-m-b.org
SUMMARY:Rehearsal
DESCRIPTION:Want to join our band of merry-makers? We welcome all ages and skill levels! \nMMMB ordinarily practices every Sunday afternoon at Artworks at the Carver School\, 522 Patterson Street. The color guard and musicians usually rehearse in separate second floor classrooms\, with a joint period of announcements in the middle: \n–3:45-4:00 pm\, musicians arrive; warm-up \n–4:00-6:00\, color guard and musicians rehearse \n–break at 5-ish for announcements \nSome weeks\, when the color guard and musicians need to practice together\, the timing may be different. Some weeks\, the practice location may be different. Due to holidays and scheduling conflicts\, there will not be any practice some weeks. All schedule changes will be reflected on Gig-o-Matic and shared via MMMB’s Google listserv email. \nAre kids and other guests welcome at practice?  \nKids who are serious about practicing are very welcome\, at the discretion of the Minister of the Grooves and the Ministers of the Moves. A parent/guardian should stay for practice\, as no one else in MMMB can take responsibility for watching them. Some teens who have demonstrated commitment to practice diligently may not need parents/guardians to stay\, but please know that they are not supervised at practice or at events. We have been very fortunate to have some awesome teen monkeys!  \nGuests are welcome to observe practice quietly\, and parents/guardians need to keep an eye on their own kids. There are not any extra adults to watch them\, and band members need to be able to concentrate on practice. Kids must keep themselves occupied and quiet. Even though we are a fun bunch\, we take practice seriously!
URL:https://m-m-m-b.org/event/rehearsal-7/
LOCATION:Artworks at the Carver School\, 522 Patterson St.\, Lexington\, KY\, 40508\, United States
CATEGORIES:rehearsal
ORGANIZER;CN="March Madness Marching Band":MAILTO:info@m-m-m-b.org
END:VEVENT
BEGIN:VEVENT
DTSTART;TZID=America/Kentucky/Louisville:20190707T160000
DTEND;TZID=America/Kentucky/Louisville:20190707T180000
DTSTAMP:20260425T141154
CREATED:20190627T143031Z
LAST-MODIFIED:20190627T143031Z
UID:1333-1562515200-1562522400@m-m-m-b.org
SUMMARY:Rehearsal
DESCRIPTION:Want to join our band of merry-makers? We welcome all ages and skill levels! \nMMMB ordinarily practices every Sunday afternoon at Artworks at the Carver School\, 522 Patterson Street. The color guard and musicians usually rehearse in separate second floor classrooms\, with a joint period of announcements in the middle: \n–3:45-4:00 pm\, musicians arrive; warm-up \n–4:00-6:00\, color guard and musicians rehearse \n–break at 5-ish for announcements \nSome weeks\, when the color guard and musicians need to practice together\, the timing may be different. Some weeks\, the practice location may be different. Due to holidays and scheduling conflicts\, there will not be any practice some weeks. All schedule changes will be reflected on Gig-o-Matic and shared via MMMB’s Google listserv email. \nAre kids and other guests welcome at practice?  \nKids who are serious about practicing are very welcome\, at the discretion of the Minister of the Grooves and the Ministers of the Moves. A parent/guardian should stay for practice\, as no one else in MMMB can take responsibility for watching them. Some teens who have demonstrated commitment to practice diligently may not need parents/guardians to stay\, but please know that they are not supervised at practice or at events. We have been very fortunate to have some awesome teen monkeys!  \nGuests are welcome to observe practice quietly\, and parents/guardians need to keep an eye on their own kids. There are not any extra adults to watch them\, and band members need to be able to concentrate on practice. Kids must keep themselves occupied and quiet. Even though we are a fun bunch\, we take practice seriously!
URL:https://m-m-m-b.org/event/rehearsal-5/
LOCATION:Artworks at the Carver School\, 522 Patterson St.\, Lexington\, KY\, 40508\, United States
CATEGORIES:rehearsal
ORGANIZER;CN="March Madness Marching Band":MAILTO:info@m-m-m-b.org
END:VEVENT
BEGIN:VEVENT
DTSTART;TZID=America/Kentucky/Louisville:20190623T160000
DTEND;TZID=America/Kentucky/Louisville:20190623T180000
DTSTAMP:20260425T141154
CREATED:20190510T040623Z
LAST-MODIFIED:20190510T040623Z
UID:1282-1561305600-1561312800@m-m-m-b.org
SUMMARY:Rehearsal
DESCRIPTION:Want to join our band of merry-makers? We welcome all ages and skill levels! \nMMMB ordinarily practices every Sunday afternoon at Artworks at the Carver School\, 522 Patterson Street. The color guard and musicians usually rehearse in separate second floor classrooms\, with a joint period of announcements in the middle: \n–3:45-4:00 pm\, musicians arrive; warm-up \n–4:00-6:00\, color guard and musicians rehearse \n–break at 5-ish for announcements \nSome weeks\, when the color guard and musicians need to practice together\, the timing may be different. Some weeks\, the practice location may be different. Due to holidays and scheduling conflicts\, there will not be any practice some weeks. All schedule changes will be reflected on Gig-o-Matic and shared via MMMB’s Google listserv email. \nAre kids and other guests welcome at practice?  \nKids who are serious about practicing are very welcome\, at the discretion of the Minister of the Grooves and the Ministers of the Moves. A parent/guardian should stay for practice\, as no one else in MMMB can take responsibility for watching them. Some teens who have demonstrated commitment to practice diligently may not need parents/guardians to stay\, but please know that they are not supervised at practice or at events. We have been very fortunate to have some awesome teen monkeys!  \nGuests are welcome to observe practice quietly\, and parents/guardians need to keep an eye on their own kids. There are not any extra adults to watch them\, and band members need to be able to concentrate on practice. Kids must keep themselves occupied and quiet. Even though we are a fun bunch\, we take practice seriously!
URL:https://m-m-m-b.org/event/rehearsal-4/
LOCATION:Artworks at the Carver School\, 522 Patterson St.\, Lexington\, KY\, 40508\, United States
CATEGORIES:rehearsal
ORGANIZER;CN="March Madness Marching Band":MAILTO:info@m-m-m-b.org
END:VEVENT
BEGIN:VEVENT
DTSTART;TZID=America/Kentucky/Louisville:20190609T160000
DTEND;TZID=America/Kentucky/Louisville:20190609T180000
DTSTAMP:20260425T141154
CREATED:20190510T040502Z
LAST-MODIFIED:20190510T040502Z
UID:1280-1560096000-1560103200@m-m-m-b.org
SUMMARY:Rehearsal
DESCRIPTION:Want to join our band of merry-makers? We welcome all ages and skill levels! \nMMMB ordinarily practices every Sunday afternoon at Artworks at the Carver School\, 522 Patterson Street. The color guard and musicians usually rehearse in separate second floor classrooms\, with a joint period of announcements in the middle: \n–3:45-4:00 pm\, musicians arrive; warm-up \n–4:00-6:00\, color guard and musicians rehearse \n–break at 5-ish for announcements \nSome weeks\, when the color guard and musicians need to practice together\, the timing may be different. Some weeks\, the practice location may be different. Due to holidays and scheduling conflicts\, there will not be any practice some weeks. All schedule changes will be reflected on Gig-o-Matic and shared via MMMB’s Google listserv email. \nAre kids and other guests welcome at practice?  \nKids who are serious about practicing are very welcome\, at the discretion of the Minister of the Grooves and the Ministers of the Moves. A parent/guardian should stay for practice\, as no one else in MMMB can take responsibility for watching them. Some teens who have demonstrated commitment to practice diligently may not need parents/guardians to stay\, but please know that they are not supervised at practice or at events. We have been very fortunate to have some awesome teen monkeys!  \nGuests are welcome to observe practice quietly\, and parents/guardians need to keep an eye on their own kids. There are not any extra adults to watch them\, and band members need to be able to concentrate on practice. Kids must keep themselves occupied and quiet. Even though we are a fun bunch\, we take practice seriously!
URL:https://m-m-m-b.org/event/rehearsal-3/
LOCATION:Artworks at the Carver School\, 522 Patterson St.\, Lexington\, KY\, 40508\, United States
CATEGORIES:rehearsal
ORGANIZER;CN="March Madness Marching Band":MAILTO:info@m-m-m-b.org
END:VEVENT
BEGIN:VEVENT
DTSTART;TZID=America/Kentucky/Louisville:20190602T163000
DTEND;TZID=America/Kentucky/Louisville:20190602T183000
DTSTAMP:20260425T141154
CREATED:20190510T040352Z
LAST-MODIFIED:20190510T041031Z
UID:1278-1559493000-1559500200@m-m-m-b.org
SUMMARY:Rehearsal
DESCRIPTION:Rehearsals on May 19 and June 2 will be 4:30-6:30\, instead of the usual time. \n\nWant to join our band of merry-makers? We welcome all ages and skill levels! \nMMMB ordinarily practices every Sunday afternoon at Artworks at the Carver School\, 522 Patterson Street. The color guard and musicians usually rehearse in separate second floor classrooms\, with a joint period of announcements in the middle: \n–3:45-4:00 pm\, musicians arrive; warm-up \n–4:00-6:00\, color guard and musicians rehearse \n–break at 5-ish for announcements \nSome weeks\, when the color guard and musicians need to practice together\, the timing may be different. Some weeks\, the practice location may be different. Due to holidays and scheduling conflicts\, there will not be any practice some weeks. All schedule changes will be reflected on Gig-o-Matic and shared via MMMB’s Google listserv email. \nAre kids and other guests welcome at practice?  \nKids who are serious about practicing are very welcome\, at the discretion of the Minister of the Grooves and the Ministers of the Moves. A parent/guardian should stay for practice\, as no one else in MMMB can take responsibility for watching them. Some teens who have demonstrated commitment to practice diligently may not need parents/guardians to stay\, but please know that they are not supervised at practice or at events. We have been very fortunate to have some awesome teen monkeys!  \nGuests are welcome to observe practice quietly\, and parents/guardians need to keep an eye on their own kids. There are not any extra adults to watch them\, and band members need to be able to concentrate on practice. Kids must keep themselves occupied and quiet. Even though we are a fun bunch\, we take practice seriously!
URL:https://m-m-m-b.org/event/rehearsal-2/
LOCATION:Artworks at the Carver School\, 522 Patterson St.\, Lexington\, KY\, 40508\, United States
CATEGORIES:rehearsal
ORGANIZER;CN="March Madness Marching Band":MAILTO:info@m-m-m-b.org
END:VEVENT
BEGIN:VEVENT
DTSTART;TZID=America/Kentucky/Louisville:20190519T163000
DTEND;TZID=America/Kentucky/Louisville:20190519T183000
DTSTAMP:20260425T141154
CREATED:20190510T035754Z
LAST-MODIFIED:20190510T040950Z
UID:1275-1558283400-1558290600@m-m-m-b.org
SUMMARY:Rehearsal
DESCRIPTION:Rehearsals on May 19 and June 2 will be 4:30-6:30\, instead of the usual time. \n\nWant to join our band of merry-makers? We welcome all ages and skill levels! \nMMMB ordinarily practices every Sunday afternoon at Artworks at the Carver School\, 522 Patterson Street. The color guard and musicians usually rehearse in separate second floor classrooms\, with a joint period of announcements in the middle: \n–3:45-4:00 pm\, musicians arrive; warm-up \n–4:00-6:00\, color guard and musicians rehearse \n–break at 5-ish for announcements \nSome weeks\, when the color guard and musicians need to practice together\, the timing may be different. Some weeks\, the practice location may be different. Due to holidays and scheduling conflicts\, there will not be any practice some weeks. All schedule changes will be reflected on Gig-o-Matic and shared via MMMB’s Google listserv email. \nAre kids and other guests welcome at practice?  \nKids who are serious about practicing are very welcome\, at the discretion of the Minister of the Grooves and the Ministers of the Moves. A parent/guardian should stay for practice\, as no one else in MMMB can take responsibility for watching them. Some teens who have demonstrated commitment to practice diligently may not need parents/guardians to stay\, but please know that they are not supervised at practice or at events. We have been very fortunate to have some awesome teen monkeys!  \nGuests are welcome to observe practice quietly\, and parents/guardians need to keep an eye on their own kids. There are not any extra adults to watch them\, and band members need to be able to concentrate on practice. Kids must keep themselves occupied and quiet. Even though we are a fun bunch\, we take practice seriously!
URL:https://m-m-m-b.org/event/rehearsal/
LOCATION:Artworks at the Carver School\, 522 Patterson St.\, Lexington\, KY\, 40508\, United States
CATEGORIES:rehearsal
ORGANIZER;CN="March Madness Marching Band":MAILTO:info@m-m-m-b.org
END:VEVENT
END:VCALENDAR