BEGIN:VCALENDAR
VERSION:2.0
PRODID:-//March Madness Marching Band - ECPv6.15.20//NONSGML v1.0//EN
CALSCALE:GREGORIAN
METHOD:PUBLISH
X-ORIGINAL-URL:https://m-m-m-b.org
X-WR-CALDESC:Events for March Madness Marching Band
REFRESH-INTERVAL;VALUE=DURATION:PT1H
X-Robots-Tag:noindex
X-PUBLISHED-TTL:PT1H
BEGIN:VTIMEZONE
TZID:America/Kentucky/Louisville
BEGIN:DAYLIGHT
TZOFFSETFROM:-0500
TZOFFSETTO:-0400
TZNAME:EDT
DTSTART:20180311T070000
END:DAYLIGHT
BEGIN:STANDARD
TZOFFSETFROM:-0400
TZOFFSETTO:-0500
TZNAME:EST
DTSTART:20181104T060000
END:STANDARD
BEGIN:DAYLIGHT
TZOFFSETFROM:-0500
TZOFFSETTO:-0400
TZNAME:EDT
DTSTART:20190310T070000
END:DAYLIGHT
BEGIN:STANDARD
TZOFFSETFROM:-0400
TZOFFSETTO:-0500
TZNAME:EST
DTSTART:20191103T060000
END:STANDARD
BEGIN:DAYLIGHT
TZOFFSETFROM:-0500
TZOFFSETTO:-0400
TZNAME:EDT
DTSTART:20200308T070000
END:DAYLIGHT
BEGIN:STANDARD
TZOFFSETFROM:-0400
TZOFFSETTO:-0500
TZNAME:EST
DTSTART:20201101T060000
END:STANDARD
END:VTIMEZONE
BEGIN:VEVENT
DTSTART;TZID=America/Kentucky/Louisville:20190704T140000
DTEND;TZID=America/Kentucky/Louisville:20190704T150000
DTSTAMP:20260425T073400
CREATED:20190606T040701Z
LAST-MODIFIED:20190606T040701Z
UID:1304-1562248800-1562252400@m-m-m-b.org
SUMMARY:Lexington Independence Day Parade
DESCRIPTION:
URL:https://m-m-m-b.org/event/lexington-independence-day-parade/
LOCATION:Main Street\, Lexington\, Lexington\, KY\, 40507\, United States
CATEGORIES:performance
ATTACH;FMTTYPE=image/jpeg:https://m-m-m-b.org/wp-content/uploads/2019/02/IMG_1088_tonemapped.jpg
END:VEVENT
BEGIN:VEVENT
DTSTART;TZID=America/Kentucky/Louisville:20190629T131500
DTEND;TZID=America/Kentucky/Louisville:20190629T134500
DTSTAMP:20260425T073400
CREATED:20190323T022218Z
LAST-MODIFIED:20190627T142401Z
UID:708-1561814100-1561815900@m-m-m-b.org
SUMMARY:Lexington Pride Festival
DESCRIPTION:Note: The Lexington Pride Festival has two stages this year\, and MMMB will perform in front of the Barr Street stage (and not the Short Street stage). \n— \nThe Lexington Pride Festival is an annual event created to celebrate the LGBTQ+ people\, their friends\, families\, and allies. The family-friendly festival is held on the last Saturday of June at the Robert Stephens Courthouse at the corner of North Limestone and Main Streets. The free festival includes entertainment\, kids activities\, vendors\, and fun events. The event was created to create a safe space for the LGBTQ+ community to connect and to celebrate and to celebrate our identities.
URL:https://m-m-m-b.org/event/lexington-pride-festival/
LOCATION:Robert Stephens Courthouse Plaza\, 120 North Limestone Street\, Lexington\, KY\, 40507\, United States
CATEGORIES:performance
ATTACH;FMTTYPE=image/jpeg:https://m-m-m-b.org/wp-content/uploads/2019/03/13417408_1133892599986580_1043198696740471776_n.jpg
END:VEVENT
BEGIN:VEVENT
DTSTART;TZID=America/Kentucky/Louisville:20190623T160000
DTEND;TZID=America/Kentucky/Louisville:20190623T180000
DTSTAMP:20260425T073400
CREATED:20190510T040623Z
LAST-MODIFIED:20190510T040623Z
UID:1282-1561305600-1561312800@m-m-m-b.org
SUMMARY:Rehearsal
DESCRIPTION:Want to join our band of merry-makers? We welcome all ages and skill levels! \nMMMB ordinarily practices every Sunday afternoon at Artworks at the Carver School\, 522 Patterson Street. The color guard and musicians usually rehearse in separate second floor classrooms\, with a joint period of announcements in the middle: \n–3:45-4:00 pm\, musicians arrive; warm-up \n–4:00-6:00\, color guard and musicians rehearse \n–break at 5-ish for announcements \nSome weeks\, when the color guard and musicians need to practice together\, the timing may be different. Some weeks\, the practice location may be different. Due to holidays and scheduling conflicts\, there will not be any practice some weeks. All schedule changes will be reflected on Gig-o-Matic and shared via MMMB’s Google listserv email. \nAre kids and other guests welcome at practice?  \nKids who are serious about practicing are very welcome\, at the discretion of the Minister of the Grooves and the Ministers of the Moves. A parent/guardian should stay for practice\, as no one else in MMMB can take responsibility for watching them. Some teens who have demonstrated commitment to practice diligently may not need parents/guardians to stay\, but please know that they are not supervised at practice or at events. We have been very fortunate to have some awesome teen monkeys!  \nGuests are welcome to observe practice quietly\, and parents/guardians need to keep an eye on their own kids. There are not any extra adults to watch them\, and band members need to be able to concentrate on practice. Kids must keep themselves occupied and quiet. Even though we are a fun bunch\, we take practice seriously!
URL:https://m-m-m-b.org/event/rehearsal-4/
LOCATION:Artworks at the Carver School\, 522 Patterson St.\, Lexington\, KY\, 40508\, United States
CATEGORIES:rehearsal
ORGANIZER;CN="March Madness Marching Band":MAILTO:info@m-m-m-b.org
END:VEVENT
BEGIN:VEVENT
DTSTART;TZID=America/Kentucky/Louisville:20190615T160000
DTEND;TZID=America/Kentucky/Louisville:20190615T170000
DTSTAMP:20260425T073400
CREATED:20190323T021717Z
LAST-MODIFIED:20190607T031902Z
UID:703-1560614400-1560618000@m-m-m-b.org
SUMMARY:PlayThink
DESCRIPTION:June 12 – 16\, 2019\nHarrodsburg\, KY\nwww.playthinkfest.com \nPlayThink is a summer adventure that will transform your heart. Since its inception\, we have created a community of visionary artists\, performers\, musicians\, teachers\, and so much more. People from all walks of life have come to PlayThink and built the rich experience that you can enjoy today. Whatever your flow may be\, there is a home for it at PlayThink! \nPlayThink is a family festival and welcomes all ages. It is a place for friends and families to discover together\, have fun together\, and create memories to last a lifetime.
URL:https://m-m-m-b.org/event/playthink/
LOCATION:PlayThink\, 3696 Mackville Rd.\, Harrodsburg\, KY\, 40330\, United States
CATEGORIES:performance
ATTACH;FMTTYPE=image/jpeg:https://m-m-m-b.org/wp-content/uploads/2019/03/53473737_2116697991771184_9128727540519665664_n.jpg
END:VEVENT
BEGIN:VEVENT
DTSTART;TZID=America/Kentucky/Louisville:20190609T160000
DTEND;TZID=America/Kentucky/Louisville:20190609T180000
DTSTAMP:20260425T073400
CREATED:20190510T040502Z
LAST-MODIFIED:20190510T040502Z
UID:1280-1560096000-1560103200@m-m-m-b.org
SUMMARY:Rehearsal
DESCRIPTION:Want to join our band of merry-makers? We welcome all ages and skill levels! \nMMMB ordinarily practices every Sunday afternoon at Artworks at the Carver School\, 522 Patterson Street. The color guard and musicians usually rehearse in separate second floor classrooms\, with a joint period of announcements in the middle: \n–3:45-4:00 pm\, musicians arrive; warm-up \n–4:00-6:00\, color guard and musicians rehearse \n–break at 5-ish for announcements \nSome weeks\, when the color guard and musicians need to practice together\, the timing may be different. Some weeks\, the practice location may be different. Due to holidays and scheduling conflicts\, there will not be any practice some weeks. All schedule changes will be reflected on Gig-o-Matic and shared via MMMB’s Google listserv email. \nAre kids and other guests welcome at practice?  \nKids who are serious about practicing are very welcome\, at the discretion of the Minister of the Grooves and the Ministers of the Moves. A parent/guardian should stay for practice\, as no one else in MMMB can take responsibility for watching them. Some teens who have demonstrated commitment to practice diligently may not need parents/guardians to stay\, but please know that they are not supervised at practice or at events. We have been very fortunate to have some awesome teen monkeys!  \nGuests are welcome to observe practice quietly\, and parents/guardians need to keep an eye on their own kids. There are not any extra adults to watch them\, and band members need to be able to concentrate on practice. Kids must keep themselves occupied and quiet. Even though we are a fun bunch\, we take practice seriously!
URL:https://m-m-m-b.org/event/rehearsal-3/
LOCATION:Artworks at the Carver School\, 522 Patterson St.\, Lexington\, KY\, 40508\, United States
CATEGORIES:rehearsal
ORGANIZER;CN="March Madness Marching Band":MAILTO:info@m-m-m-b.org
END:VEVENT
BEGIN:VEVENT
DTSTART;TZID=America/Kentucky/Louisville:20190608T110000
DTEND;TZID=America/Kentucky/Louisville:20190608T120000
DTSTAMP:20260425T073400
CREATED:20190416T023139Z
LAST-MODIFIED:20190510T035144Z
UID:1133-1559991600-1559995200@m-m-m-b.org
SUMMARY:Great American Brass Band Festival Parade
DESCRIPTION:Downtown Danville on Main Street \nCome clap along to the beat of this New Orleans style parade with bands\, cars\, kids\, beads and a whole lot more. \nFrom www.gabbf.org: \nThe Great American Brass Band Festival is a Festival that celebrates brass music and is in its 30th year. The Festival happens every June in beautiful downtown Danville\, Kentucky and on the campus of Centre College. The Festival is a free\, family friendly four day event. Bands come from all over the United States and Europe. Many fine soloists are also featured each year at the Great American Brass Band Festival. \n\n\n\n\n\n\nFestival Dates:\n2019: June 6 – June 9
URL:https://m-m-m-b.org/event/great-american-brass-band-festival-parade/
LOCATION:Main Street\, Danville\, 326 W. Main St.\, Danville\, KY\, 40422\, United States
CATEGORIES:performance
ATTACH;FMTTYPE=image/jpeg:https://m-m-m-b.org/wp-content/uploads/2019/04/34445065_1679833818731191_8689917990382075904_o.jpg
END:VEVENT
BEGIN:VEVENT
DTSTART;TZID=America/Kentucky/Louisville:20190602T163000
DTEND;TZID=America/Kentucky/Louisville:20190602T183000
DTSTAMP:20260425T073400
CREATED:20190510T040352Z
LAST-MODIFIED:20190510T041031Z
UID:1278-1559493000-1559500200@m-m-m-b.org
SUMMARY:Rehearsal
DESCRIPTION:Rehearsals on May 19 and June 2 will be 4:30-6:30\, instead of the usual time. \n\nWant to join our band of merry-makers? We welcome all ages and skill levels! \nMMMB ordinarily practices every Sunday afternoon at Artworks at the Carver School\, 522 Patterson Street. The color guard and musicians usually rehearse in separate second floor classrooms\, with a joint period of announcements in the middle: \n–3:45-4:00 pm\, musicians arrive; warm-up \n–4:00-6:00\, color guard and musicians rehearse \n–break at 5-ish for announcements \nSome weeks\, when the color guard and musicians need to practice together\, the timing may be different. Some weeks\, the practice location may be different. Due to holidays and scheduling conflicts\, there will not be any practice some weeks. All schedule changes will be reflected on Gig-o-Matic and shared via MMMB’s Google listserv email. \nAre kids and other guests welcome at practice?  \nKids who are serious about practicing are very welcome\, at the discretion of the Minister of the Grooves and the Ministers of the Moves. A parent/guardian should stay for practice\, as no one else in MMMB can take responsibility for watching them. Some teens who have demonstrated commitment to practice diligently may not need parents/guardians to stay\, but please know that they are not supervised at practice or at events. We have been very fortunate to have some awesome teen monkeys!  \nGuests are welcome to observe practice quietly\, and parents/guardians need to keep an eye on their own kids. There are not any extra adults to watch them\, and band members need to be able to concentrate on practice. Kids must keep themselves occupied and quiet. Even though we are a fun bunch\, we take practice seriously!
URL:https://m-m-m-b.org/event/rehearsal-2/
LOCATION:Artworks at the Carver School\, 522 Patterson St.\, Lexington\, KY\, 40508\, United States
CATEGORIES:rehearsal
ORGANIZER;CN="March Madness Marching Band":MAILTO:info@m-m-m-b.org
END:VEVENT
BEGIN:VEVENT
DTSTART;TZID=America/Kentucky/Louisville:20190601T173000
DTEND;TZID=America/Kentucky/Louisville:20190601T183000
DTSTAMP:20260425T073400
CREATED:20190323T021148Z
LAST-MODIFIED:20190510T035145Z
UID:698-1559410200-1559413800@m-m-m-b.org
SUMMARY:Southland Street Fair
DESCRIPTION:Southland Street Fair 2019 is taking over Southland Drive on Saturday\, June 1st! Between 3:00 and 8:00 p.m.\, you can enjoy entertainment\, local vendors\, food trucks and tents\, family friendly activities and more.
URL:https://m-m-m-b.org/event/southland-street-fair/
LOCATION:Southland Drive\, Southland Drive\, 40503
CATEGORIES:performance
ATTACH;FMTTYPE=image/jpeg:https://m-m-m-b.org/wp-content/uploads/2019/03/52708569_1204137046412184_5658979614207246336_o.jpg
END:VEVENT
BEGIN:VEVENT
DTSTART;TZID=America/Kentucky/Louisville:20190519T163000
DTEND;TZID=America/Kentucky/Louisville:20190519T183000
DTSTAMP:20260425T073400
CREATED:20190510T035754Z
LAST-MODIFIED:20190510T040950Z
UID:1275-1558283400-1558290600@m-m-m-b.org
SUMMARY:Rehearsal
DESCRIPTION:Rehearsals on May 19 and June 2 will be 4:30-6:30\, instead of the usual time. \n\nWant to join our band of merry-makers? We welcome all ages and skill levels! \nMMMB ordinarily practices every Sunday afternoon at Artworks at the Carver School\, 522 Patterson Street. The color guard and musicians usually rehearse in separate second floor classrooms\, with a joint period of announcements in the middle: \n–3:45-4:00 pm\, musicians arrive; warm-up \n–4:00-6:00\, color guard and musicians rehearse \n–break at 5-ish for announcements \nSome weeks\, when the color guard and musicians need to practice together\, the timing may be different. Some weeks\, the practice location may be different. Due to holidays and scheduling conflicts\, there will not be any practice some weeks. All schedule changes will be reflected on Gig-o-Matic and shared via MMMB’s Google listserv email. \nAre kids and other guests welcome at practice?  \nKids who are serious about practicing are very welcome\, at the discretion of the Minister of the Grooves and the Ministers of the Moves. A parent/guardian should stay for practice\, as no one else in MMMB can take responsibility for watching them. Some teens who have demonstrated commitment to practice diligently may not need parents/guardians to stay\, but please know that they are not supervised at practice or at events. We have been very fortunate to have some awesome teen monkeys!  \nGuests are welcome to observe practice quietly\, and parents/guardians need to keep an eye on their own kids. There are not any extra adults to watch them\, and band members need to be able to concentrate on practice. Kids must keep themselves occupied and quiet. Even though we are a fun bunch\, we take practice seriously!
URL:https://m-m-m-b.org/event/rehearsal/
LOCATION:Artworks at the Carver School\, 522 Patterson St.\, Lexington\, KY\, 40508\, United States
CATEGORIES:rehearsal
ORGANIZER;CN="March Madness Marching Band":MAILTO:info@m-m-m-b.org
END:VEVENT
BEGIN:VEVENT
DTSTART;TZID=America/Kentucky/Louisville:20190518T190000
DTEND;TZID=America/Kentucky/Louisville:20190518T220000
DTSTAMP:20260425T073400
CREATED:20190408T164622Z
LAST-MODIFIED:20190510T035146Z
UID:1007-1558206000-1558216800@m-m-m-b.org
SUMMARY:Paws 4 the Cause: Pawhibition fundraiser
DESCRIPTION:Paws 4 the Cause’s annual gala fundraiser\, PAWHIBITION\, is an evening of Roaring 20’s elegance. Guests are encouraged to come dressed up in their finest threads from the period and enjoy a unique\, memorable evening as we raise funds for a great cause. \nThis year’s event will feature a live art show with local artists\, live entertainment\, food\, drink\, gaming\, an old-time photo booth\, and both silent and live auctions and more! Stay tuned to the event page for upcoming announcements. We’ve got some exciting things lined up for guests this year! \nPawhibition 2019 will take place in Lexington on May 18th at the historic Lyric Theatre. TICKETS ON SALE APRIL 1st!!
URL:https://m-m-m-b.org/event/paws-4-the-cause-pawhibition-fundraiser/
LOCATION:Lyric Theater & Cultural Arts Center\, 300 E 3rd St\, Lexington\, KY\, 40508\, United States
CATEGORIES:performance
ATTACH;FMTTYPE=image/jpeg:https://m-m-m-b.org/wp-content/uploads/2019/04/paws4thecause.jpg
END:VEVENT
BEGIN:VEVENT
DTSTART;TZID=America/Kentucky/Louisville:20190511T080000
DTEND;TZID=America/Kentucky/Louisville:20190511T093000
DTSTAMP:20260425T073400
CREATED:20190415T163434Z
LAST-MODIFIED:20190510T035147Z
UID:1128-1557561600-1557567000@m-m-m-b.org
SUMMARY:Central Kentucky Heart Walk
DESCRIPTION:From American Heart Association of Lexington \nOUR MISSION\nTo be a relentless force for a world of longer\, healthier lives.\nOUR IMPACT:\nBy 2020\, to improve the cardiovascular health of all Americans by 20 percent while reducing deaths from cardiovascular disease and stroke by 20 percent. \nWe make an extraordinary impact through our wide range of lifesaving activities. The Heart Walk is our premeir fundraising event and attracts thousands of participants to Keeneland Racecourse each spring to raise important funds that help save and extend lives right here in Central Kentucky. Registration begins at 8 am with a health and wellness fair\, a fun kids area and plenty of entertainment and education. Participants may choose either a 1 or 3 mile walk around the beautiful grounds of Keeneland. The event is open to all ages so bring your famiy and friends. The Heart Walk is brought to you by Healthy for Good Sponsors UK HealthCare UnitedHealthcare Clark Regional Medical Center and Georgetown Community Hospital
URL:https://m-m-m-b.org/event/central-kentucky-heart-walk/
LOCATION:Keeneland\, 4201 Versailles Rd.\, Lexington\, KY\, 40510\, United States
CATEGORIES:performance
ATTACH;FMTTYPE=image/jpeg:https://m-m-m-b.org/wp-content/uploads/2019/04/heartwalk.jpg
END:VEVENT
BEGIN:VEVENT
DTSTART;TZID=America/Kentucky/Louisville:20190428T151500
DTEND;TZID=America/Kentucky/Louisville:20190428T153000
DTSTAMP:20260425T073400
CREATED:20190407T161458Z
LAST-MODIFIED:20190510T035148Z
UID:999-1556464500-1556465400@m-m-m-b.org
SUMMARY:Good Foods Co-Op Annual Owners Meeting & Celebration
DESCRIPTION:
URL:https://m-m-m-b.org/event/good-foods-co-op-annual-owners-meeting-celebration/
LOCATION:Good Foods Co-Op\, 455 Southland Drive\, Lexington\, KY\, 40503\, United States
CATEGORIES:performance
ATTACH;FMTTYPE=image/jpeg:https://m-m-m-b.org/wp-content/uploads/2019/04/good-foods-event.jpg
END:VEVENT
BEGIN:VEVENT
DTSTART;TZID=America/Kentucky/Louisville:20190427T164500
DTEND;TZID=America/Kentucky/Louisville:20190427T170000
DTSTAMP:20260425T073400
CREATED:20190323T020747Z
LAST-MODIFIED:20190510T035150Z
UID:693-1556383500-1556384400@m-m-m-b.org
SUMMARY:Inclusion Palooza
DESCRIPTION:#InclusionPalooza was first hosted in 2018\, in an effort to bring people together and celebrate our differences and similarities through the power of music and advocacy. In particular\, Inclusion Palooza honors individuals with disabilities and their contributions in our community\, in our schools\, and in our workplaces in Kentucky.
URL:https://m-m-m-b.org/event/inclusion-palooza/
LOCATION:MoonDance Amphitheater\, 1152 Monarch St.\, Lexington\, KY\, 40513\, United States
CATEGORIES:performance
ATTACH;FMTTYPE=image/jpeg:https://m-m-m-b.org/wp-content/uploads/2019/03/48369755_1055384044668675_5620643238634323968_n.jpg
END:VEVENT
BEGIN:VEVENT
DTSTART;VALUE=DATE:20190329
DTEND;VALUE=DATE:20190401
DTSTAMP:20260425T073400
CREATED:20190214T055734Z
LAST-MODIFIED:20190510T035151Z
UID:459-1553817600-1554076799@m-m-m-b.org
SUMMARY:HONK!TX Festival of Community Street Bands
DESCRIPTION:HONK!TX is a nonprofit\, community-driven festival that brings street and brass bands from around the country to perform for free in the public spaces of Austin\, Texas. Mobile and unamplified\, HONK! bands transform everyday locations into spontaneous stages\, dissolving the line between crowd and performers and inviting everyone to celebrate the joys of music and community. A range of genres will be represented: New Orleans second-line brass\, European Klezmer and Balkan\, Brazilian\, West African and more. HONK! is a celebration of community\, collaboration and creative expression. Join the revelry! \nYou should really come to see the wide variety of bands this festival has to offer\, but if you just want to see March Madness Marching Band (an understandable instinct)\, we will be playing at these times and locations: \n-Friday\, March 29\, 7pm by the Trellises at Mueller Lake Park\n-Saturday\, March 30\, 12pm by East Arbor in Adams Park\n-Saturday\, March 30\, 4:30pm by West Grove in Adams Park\n-Sunday\, March 31 as part of the all-band revue in Pan Am Park \nMMMB’s HONK!TX Facebook event page
URL:https://m-m-m-b.org/event/honktx-festival-of-community-street-bands/
LOCATION:Austin\, TX
CATEGORIES:performance
END:VEVENT
BEGIN:VEVENT
DTSTART;TZID=America/Kentucky/Louisville:20190316T130000
DTEND;TZID=America/Kentucky/Louisville:20190316T150000
DTSTAMP:20260425T073400
CREATED:20190214T055544Z
LAST-MODIFIED:20190510T035152Z
UID:457-1552741200-1552748400@m-m-m-b.org
SUMMARY:Lexington St. Patrick's Parade
DESCRIPTION:The parade begins at 1 p.m.\, rain or shine!
URL:https://m-m-m-b.org/event/lexington-st-patricks-parade/
LOCATION:KY
CATEGORIES:performance
END:VEVENT
BEGIN:VEVENT
DTSTART;TZID=America/Kentucky/Louisville:20190301T180000
DTEND;TZID=America/Kentucky/Louisville:20190301T230000
DTSTAMP:20260425T073400
CREATED:20190214T105108Z
LAST-MODIFIED:20190510T035154Z
UID:452-1551463200-1551481200@m-m-m-b.org
SUMMARY:Bourbon and the Bayou
DESCRIPTION:From Court Appointed Special Advocates (CASA) of Lexington: \nBourbon and the Bayou is a Fat Friday event with Mardi Gras theme including live music\, Cajun food\, bourbon tastings\, silent and live auctions and Mardi Gras entertainment. \nThe proceeds from this events help us train volunteers as advocates to speak on children’s behalf in the family circuit court in our local community. Our volunteers are appointed by judges and trained to advocate for the best interests of abused and neglected children. Currently only 29% of those children who need advocacy are being served. We currently serve Fayette\, Bourbon\, and Woodford counties.
URL:https://m-m-m-b.org/event/bourbon-and-the-bayou/
LOCATION:The Carrick House\, 312 North Limestone St.\, Lexington\, KY\, 40508\, United States
CATEGORIES:performance
END:VEVENT
BEGIN:VEVENT
DTSTART;TZID=America/Kentucky/Louisville:20190223T180000
DTEND;TZID=America/Kentucky/Louisville:20190223T210000
DTSTAMP:20260425T073400
CREATED:20190214T102342Z
LAST-MODIFIED:20190510T035155Z
UID:444-1550944800-1550955600@m-m-m-b.org
SUMMARY:Winter Wizarding Waltz
DESCRIPTION:From Lexpecto Patronum: \nThe Winter Wizarding Waltz celebrates its fifth anniversary with our biggest event yet! An immersive wizarding village with live entertainment\, food stalls and handcrafted market. The annual event has become an experience like none other\, incorporating a new thematic aspect of the Harry Potter universe at each event. This years theme is: The Sweet Soiree. It is Lexpecto’s only fundraiser for the organization itself and finances all of the outreach done through the club. \nMMMB performs at 6:30pm.
URL:https://m-m-m-b.org/event/winter-wizarding-waltz/
LOCATION:Carnegie Center For Literacy\, 251 West Second St.\, Lexington\, KY\, 40507\, United States
CATEGORIES:performance
END:VEVENT
END:VCALENDAR