BEGIN:VCALENDAR
VERSION:2.0
PRODID:-//March Madness Marching Band - ECPv6.15.20//NONSGML v1.0//EN
CALSCALE:GREGORIAN
METHOD:PUBLISH
X-ORIGINAL-URL:https://m-m-m-b.org
X-WR-CALDESC:Events for March Madness Marching Band
REFRESH-INTERVAL;VALUE=DURATION:PT1H
X-Robots-Tag:noindex
X-PUBLISHED-TTL:PT1H
BEGIN:VTIMEZONE
TZID:America/Kentucky/Louisville
BEGIN:DAYLIGHT
TZOFFSETFROM:-0500
TZOFFSETTO:-0400
TZNAME:EDT
DTSTART:20250309T070000
END:DAYLIGHT
BEGIN:STANDARD
TZOFFSETFROM:-0400
TZOFFSETTO:-0500
TZNAME:EST
DTSTART:20251102T060000
END:STANDARD
BEGIN:DAYLIGHT
TZOFFSETFROM:-0500
TZOFFSETTO:-0400
TZNAME:EDT
DTSTART:20260308T070000
END:DAYLIGHT
BEGIN:STANDARD
TZOFFSETFROM:-0400
TZOFFSETTO:-0500
TZNAME:EST
DTSTART:20261101T060000
END:STANDARD
BEGIN:DAYLIGHT
TZOFFSETFROM:-0500
TZOFFSETTO:-0400
TZNAME:EDT
DTSTART:20270314T070000
END:DAYLIGHT
BEGIN:STANDARD
TZOFFSETFROM:-0400
TZOFFSETTO:-0500
TZNAME:EST
DTSTART:20271107T060000
END:STANDARD
END:VTIMEZONE
BEGIN:VEVENT
DTSTART;TZID=America/Kentucky/Louisville:20260523T120000
DTEND;TZID=America/Kentucky/Louisville:20260523T130000
DTSTAMP:20260424T202613
CREATED:20260424T010426Z
LAST-MODIFIED:20260424T010426Z
UID:2485-1779537600-1779541200@m-m-m-b.org
SUMMARY:DiverCity Festival
DESCRIPTION:MMMB kicks off the festival with a performance at noon! \n—– \n\nFun\, Food\, Culture\, Arts\, and COMMUNITY! Saturday May 23rd\, meet us at The Courthouse Plaza for a full day of performances\, shopping\, eating\, dancing\, and more!\n \nFREE & OPEN TO THE PUBLIC. All performances are family friendly.\n\nNoon-7pm
URL:https://m-m-m-b.org/event/divercity-festival-4/
LOCATION:Robert Stephens Courthouse Plaza\, 120 North Limestone Street\, Lexington\, KY\, 40507\, United States
CATEGORIES:performance
ORGANIZER;CN="DiverCity Lexington":MAILTO:divercitylexington@gmail.com
END:VEVENT
END:VCALENDAR