BEGIN:VCALENDAR
VERSION:2.0
PRODID:-//March Madness Marching Band - ECPv6.15.20//NONSGML v1.0//EN
CALSCALE:GREGORIAN
METHOD:PUBLISH
X-ORIGINAL-URL:https://m-m-m-b.org
X-WR-CALDESC:Events for March Madness Marching Band
REFRESH-INTERVAL;VALUE=DURATION:PT1H
X-Robots-Tag:noindex
X-PUBLISHED-TTL:PT1H
BEGIN:VTIMEZONE
TZID:America/Kentucky/Louisville
BEGIN:DAYLIGHT
TZOFFSETFROM:-0500
TZOFFSETTO:-0400
TZNAME:EDT
DTSTART:20230312T070000
END:DAYLIGHT
BEGIN:STANDARD
TZOFFSETFROM:-0400
TZOFFSETTO:-0500
TZNAME:EST
DTSTART:20231105T060000
END:STANDARD
BEGIN:DAYLIGHT
TZOFFSETFROM:-0500
TZOFFSETTO:-0400
TZNAME:EDT
DTSTART:20240310T070000
END:DAYLIGHT
BEGIN:STANDARD
TZOFFSETFROM:-0400
TZOFFSETTO:-0500
TZNAME:EST
DTSTART:20241103T060000
END:STANDARD
BEGIN:DAYLIGHT
TZOFFSETFROM:-0500
TZOFFSETTO:-0400
TZNAME:EDT
DTSTART:20250309T070000
END:DAYLIGHT
BEGIN:STANDARD
TZOFFSETFROM:-0400
TZOFFSETTO:-0500
TZNAME:EST
DTSTART:20251102T060000
END:STANDARD
END:VTIMEZONE
BEGIN:VEVENT
DTSTART;TZID=America/Kentucky/Louisville:20240704T120000
DTEND;TZID=America/Kentucky/Louisville:20240704T133000
DTSTAMP:20260425T161616
CREATED:20240623T005656Z
LAST-MODIFIED:20240623T005656Z
UID:2201-1720094400-1720099800@m-m-m-b.org
SUMMARY:Lexington July 4th Parade
DESCRIPTION:Lexington’s annual Independence Day Parade starts moving west on Main Street at noon. The city’s festival takes place downtown 10am-3pm.
URL:https://m-m-m-b.org/event/lexington-july-4th-parade-3/
LOCATION:Main Street\, Lexington\, Lexington\, KY\, 40507\, United States
CATEGORIES:performance
ATTACH;FMTTYPE=image/jpeg:https://m-m-m-b.org/wp-content/uploads/2019/02/IMG_1088_tonemapped.jpg
END:VEVENT
BEGIN:VEVENT
DTSTART;TZID=America/Kentucky/Louisville:20240714T160000
DTEND;TZID=America/Kentucky/Louisville:20240714T180000
DTSTAMP:20260425T161616
CREATED:20240519T022042Z
LAST-MODIFIED:20240519T022042Z
UID:2191-1720972800-1720980000@m-m-m-b.org
SUMMARY:rehearsal
DESCRIPTION:Want to join our band of merry-makers? We welcome all ages and skill levels! \nMMMB ordinarily practices every Sunday afternoon at Artworks at the Carver School\, 522 Patterson Street. New band members should email us at info@m-m-m-b.org prior to joining a rehearsal\, so we can make sure to have sheet music and props available. \nWhen indoors\, the color guard and musicians usually rehearse in separate second floor classrooms\, with a joint period of announcements in the middle: \n–3:45-4:00 pm\, musicians arrive; warm-up \n–4:00-6:00\, color guard and musicians rehearse \n–break at 5-ish for announcements \nSome weeks\, when the color guard and musicians need to practice together\, the timing may be different. Some weeks\, the practice location may be different. Due to holidays and scheduling conflicts\, there will not be any practice some weeks. All schedule changes will be reflected on the private BAND app. \nAre kids and other guests welcome at practice?  \nKids who are serious about practicing are very welcome\, at the discretion of the Minister of the Grooves and the Ministers of the Moves. A parent/guardian should stay for practice\, as no one else in MMMB can take responsibility for watching them. Some teens who have demonstrated commitment to practice diligently may not need parents/guardians to stay\, but please know that they are not supervised at practice or at events. We have been very fortunate to have some awesome teen performers!  \nGuests are welcome to observe practice quietly\, and parents/guardians need to keep an eye on their own kids. There are not any extra adults to watch them\, and band members need to be able to concentrate on practice. Kids must keep themselves occupied and quiet. Even though we are a fun bunch\, we take practice seriously!
URL:https://m-m-m-b.org/event/rehearsal-98/
LOCATION:Artworks at the Carver School\, 522 Patterson St.\, Lexington\, KY\, 40508\, United States
CATEGORIES:rehearsal
END:VEVENT
BEGIN:VEVENT
DTSTART;TZID=America/Kentucky/Louisville:20240721T160000
DTEND;TZID=America/Kentucky/Louisville:20240721T180000
DTSTAMP:20260425T161616
CREATED:20240720T152618Z
LAST-MODIFIED:20240720T152618Z
UID:2207-1721577600-1721584800@m-m-m-b.org
SUMMARY:rehearsal
DESCRIPTION:Want to join our band of merry-makers? We welcome all ages and skill levels! \nMMMB ordinarily practices every Sunday afternoon at Artworks at the Carver School\, 522 Patterson Street. New band members should email us at info@m-m-m-b.org prior to joining a rehearsal\, so we can make sure to have sheet music and props available. \nWhen indoors\, the color guard and musicians usually rehearse in separate second floor classrooms\, with a joint period of announcements in the middle: \n–3:45-4:00 pm\, musicians arrive; warm-up \n–4:00-6:00\, color guard and musicians rehearse \n–break at 5-ish for announcements \nSome weeks\, when the color guard and musicians need to practice together\, the timing may be different. Some weeks\, the practice location may be different. Due to holidays and scheduling conflicts\, there will not be any practice some weeks. All schedule changes will be reflected on the private BAND app. \nAre kids and other guests welcome at practice?  \nKids who are serious about practicing are very welcome\, at the discretion of the Minister of the Grooves and the Ministers of the Moves. A parent/guardian should stay for practice\, as no one else in MMMB can take responsibility for watching them. Some teens who have demonstrated commitment to practice diligently may not need parents/guardians to stay\, but please know that they are not supervised at practice or at events. We have been very fortunate to have some awesome teen performers!  \nGuests are welcome to observe practice quietly\, and parents/guardians need to keep an eye on their own kids. There are not any extra adults to watch them\, and band members need to be able to concentrate on practice. Kids must keep themselves occupied and quiet. Even though we are a fun bunch\, we take practice seriously!
URL:https://m-m-m-b.org/event/rehearsal-99/
LOCATION:Artworks at the Carver School\, 522 Patterson St.\, Lexington\, KY\, 40508\, United States
CATEGORIES:rehearsal
END:VEVENT
END:VCALENDAR