BEGIN:VCALENDAR
VERSION:2.0
PRODID:-//March Madness Marching Band - ECPv6.15.20//NONSGML v1.0//EN
CALSCALE:GREGORIAN
METHOD:PUBLISH
X-ORIGINAL-URL:https://m-m-m-b.org
X-WR-CALDESC:Events for March Madness Marching Band
REFRESH-INTERVAL;VALUE=DURATION:PT1H
X-Robots-Tag:noindex
X-PUBLISHED-TTL:PT1H
BEGIN:VTIMEZONE
TZID:America/Kentucky/Louisville
BEGIN:DAYLIGHT
TZOFFSETFROM:-0500
TZOFFSETTO:-0400
TZNAME:EDT
DTSTART:20230312T070000
END:DAYLIGHT
BEGIN:STANDARD
TZOFFSETFROM:-0400
TZOFFSETTO:-0500
TZNAME:EST
DTSTART:20231105T060000
END:STANDARD
BEGIN:DAYLIGHT
TZOFFSETFROM:-0500
TZOFFSETTO:-0400
TZNAME:EDT
DTSTART:20240310T070000
END:DAYLIGHT
BEGIN:STANDARD
TZOFFSETFROM:-0400
TZOFFSETTO:-0500
TZNAME:EST
DTSTART:20241103T060000
END:STANDARD
BEGIN:DAYLIGHT
TZOFFSETFROM:-0500
TZOFFSETTO:-0400
TZNAME:EDT
DTSTART:20250309T070000
END:DAYLIGHT
BEGIN:STANDARD
TZOFFSETFROM:-0400
TZOFFSETTO:-0500
TZNAME:EST
DTSTART:20251102T060000
END:STANDARD
END:VTIMEZONE
BEGIN:VEVENT
DTSTART;TZID=America/Kentucky/Louisville:20240907T093000
DTEND;TZID=America/Kentucky/Louisville:20240907T110000
DTSTAMP:20260425T133618
CREATED:20240816T014349Z
LAST-MODIFIED:20240817T021229Z
UID:2231-1725701400-1725706800@m-m-m-b.org
SUMMARY:Lexington Roots + Heritage Festival parade
DESCRIPTION:The parade launches from East 4th Street at Elm Tree Lane at 9:30am.
URL:https://m-m-m-b.org/event/lexington-roots-heritage-festival-parade-4/
LOCATION:KY
CATEGORIES:performance
END:VEVENT
BEGIN:VEVENT
DTSTART;TZID=America/Kentucky/Louisville:20240915T160000
DTEND;TZID=America/Kentucky/Louisville:20240915T180000
DTSTAMP:20260425T133618
CREATED:20240816T013829Z
LAST-MODIFIED:20240816T013829Z
UID:2219-1726416000-1726423200@m-m-m-b.org
SUMMARY:rehearsal
DESCRIPTION:Want to join our band of merry-makers? We welcome all ages and skill levels! \nMMMB ordinarily practices every Sunday afternoon at Artworks at the Carver School\, 522 Patterson Street. New band members should email us at info@m-m-m-b.org prior to joining a rehearsal\, so we can make sure to have sheet music and props available. \nWhen indoors\, the color guard and musicians usually rehearse in separate second floor classrooms\, with a joint period of announcements in the middle: \n–3:45-4:00 pm\, musicians arrive; warm-up \n–4:00-6:00\, color guard and musicians rehearse \n–break at 5-ish for announcements \nSome weeks\, when the color guard and musicians need to practice together\, the timing may be different. Some weeks\, the practice location may be different. Due to holidays and scheduling conflicts\, there will not be any practice some weeks. All schedule changes will be reflected on the private BAND app. \nAre kids and other guests welcome at practice?  \nKids who are serious about practicing are very welcome\, at the discretion of the Minister of the Grooves and the Ministers of the Moves. A parent/guardian should stay for practice\, as no one else in MMMB can take responsibility for watching them. Some teens who have demonstrated commitment to practice diligently may not need parents/guardians to stay\, but please know that they are not supervised at practice or at events. We have been very fortunate to have some awesome teen performers!  \nGuests are welcome to observe practice quietly\, and parents/guardians need to keep an eye on their own kids. There are not any extra adults to watch them\, and band members need to be able to concentrate on practice. Kids must keep themselves occupied and quiet. Even though we are a fun bunch\, we take practice seriously!
URL:https://m-m-m-b.org/event/rehearsal-103/
LOCATION:Artworks at the Carver School\, 522 Patterson St.\, Lexington\, KY\, 40508\, United States
CATEGORIES:rehearsal
END:VEVENT
BEGIN:VEVENT
DTSTART;TZID=America/Kentucky/Louisville:20240920T181500
DTEND;TZID=America/Kentucky/Louisville:20240920T184500
DTSTAMP:20260425T133618
CREATED:20240816T014441Z
LAST-MODIFIED:20240920T154858Z
UID:2233-1726856100-1726857900@m-m-m-b.org
SUMMARY:LexArts HOP
DESCRIPTION:Our first stop on the LexArts HOP will be a 6:15 set at Art on the Town at Tandy Park! We’ll hop toward the courthouse plaza after that! \nAbout Art on the Town tonight:\nJoin us for a celebration of local artists\, live music\, and local food!\nThis month we are thrilled to feature lots of special guests\, including musical guests Mela B AND Regina Mickens.\nAlso — around 6:15pm\, enjoy a special performance by the March Madness Marching Band!\nAND — Art on the Town’s own Green Blanket Media & Design will have their Brick Mobile and several tables of Lego bricks! Kids of ALL ages can build and display their work. They will also be displaying several mosaics made out of Lego bricks.\nArt on the Town at Tandy Park features local artists selling and showcasing paintings\, drawings\, jewelry\, books\, sculptures\, skincare\, and more!\nArtists: Tracey Sanchez\, Jason Sturgill\, Nancy Hall\, Caldera Fiber Arts\, Chris Huestis\, Debbie Blair\, Vinicius Alves Moura\, Kenny Iwamoto\, Kevin McPherson\, Green Blanket Media & Design\, Jennifer Millard\, Yolanda Kennison\, Danny Grindstaff\, Madeline Moses\, Nora Swanson\nMusical Guest: Mela B and Regina MickensFood: Bryant’s Red Hots
URL:https://m-m-m-b.org/event/lexarts-hop-30th-anniversary/
LOCATION:Henry A. Tandy Centennial Park\, 251 W. Main St.\, Lexington\, KY\, 40507\, United States
CATEGORIES:performance
END:VEVENT
BEGIN:VEVENT
DTSTART;TZID=America/Kentucky/Louisville:20240922T160000
DTEND;TZID=America/Kentucky/Louisville:20240922T180000
DTSTAMP:20260425T133618
CREATED:20240816T013916Z
LAST-MODIFIED:20240816T013916Z
UID:2221-1727020800-1727028000@m-m-m-b.org
SUMMARY:rehearsal
DESCRIPTION:Want to join our band of merry-makers? We welcome all ages and skill levels! \nMMMB ordinarily practices every Sunday afternoon at Artworks at the Carver School\, 522 Patterson Street. New band members should email us at info@m-m-m-b.org prior to joining a rehearsal\, so we can make sure to have sheet music and props available. \nWhen indoors\, the color guard and musicians usually rehearse in separate second floor classrooms\, with a joint period of announcements in the middle: \n–3:45-4:00 pm\, musicians arrive; warm-up \n–4:00-6:00\, color guard and musicians rehearse \n–break at 5-ish for announcements \nSome weeks\, when the color guard and musicians need to practice together\, the timing may be different. Some weeks\, the practice location may be different. Due to holidays and scheduling conflicts\, there will not be any practice some weeks. All schedule changes will be reflected on the private BAND app. \nAre kids and other guests welcome at practice?  \nKids who are serious about practicing are very welcome\, at the discretion of the Minister of the Grooves and the Ministers of the Moves. A parent/guardian should stay for practice\, as no one else in MMMB can take responsibility for watching them. Some teens who have demonstrated commitment to practice diligently may not need parents/guardians to stay\, but please know that they are not supervised at practice or at events. We have been very fortunate to have some awesome teen performers!  \nGuests are welcome to observe practice quietly\, and parents/guardians need to keep an eye on their own kids. There are not any extra adults to watch them\, and band members need to be able to concentrate on practice. Kids must keep themselves occupied and quiet. Even though we are a fun bunch\, we take practice seriously!
URL:https://m-m-m-b.org/event/rehearsal-104/
LOCATION:Artworks at the Carver School\, 522 Patterson St.\, Lexington\, KY\, 40508\, United States
CATEGORIES:rehearsal
END:VEVENT
BEGIN:VEVENT
DTSTART;TZID=America/Kentucky/Louisville:20240929T160000
DTEND;TZID=America/Kentucky/Louisville:20240929T180000
DTSTAMP:20260425T133618
CREATED:20240816T013945Z
LAST-MODIFIED:20240816T013945Z
UID:2223-1727625600-1727632800@m-m-m-b.org
SUMMARY:rehearsal
DESCRIPTION:Want to join our band of merry-makers? We welcome all ages and skill levels! \nMMMB ordinarily practices every Sunday afternoon at Artworks at the Carver School\, 522 Patterson Street. New band members should email us at info@m-m-m-b.org prior to joining a rehearsal\, so we can make sure to have sheet music and props available. \nWhen indoors\, the color guard and musicians usually rehearse in separate second floor classrooms\, with a joint period of announcements in the middle: \n–3:45-4:00 pm\, musicians arrive; warm-up \n–4:00-6:00\, color guard and musicians rehearse \n–break at 5-ish for announcements \nSome weeks\, when the color guard and musicians need to practice together\, the timing may be different. Some weeks\, the practice location may be different. Due to holidays and scheduling conflicts\, there will not be any practice some weeks. All schedule changes will be reflected on the private BAND app. \nAre kids and other guests welcome at practice?  \nKids who are serious about practicing are very welcome\, at the discretion of the Minister of the Grooves and the Ministers of the Moves. A parent/guardian should stay for practice\, as no one else in MMMB can take responsibility for watching them. Some teens who have demonstrated commitment to practice diligently may not need parents/guardians to stay\, but please know that they are not supervised at practice or at events. We have been very fortunate to have some awesome teen performers!  \nGuests are welcome to observe practice quietly\, and parents/guardians need to keep an eye on their own kids. There are not any extra adults to watch them\, and band members need to be able to concentrate on practice. Kids must keep themselves occupied and quiet. Even though we are a fun bunch\, we take practice seriously!
URL:https://m-m-m-b.org/event/rehearsal-105/
LOCATION:Artworks at the Carver School\, 522 Patterson St.\, Lexington\, KY\, 40508\, United States
CATEGORIES:rehearsal
END:VEVENT
END:VCALENDAR