BEGIN:VCALENDAR
VERSION:2.0
PRODID:-//March Madness Marching Band - ECPv6.15.20//NONSGML v1.0//EN
CALSCALE:GREGORIAN
METHOD:PUBLISH
X-ORIGINAL-URL:https://m-m-m-b.org
X-WR-CALDESC:Events for March Madness Marching Band
REFRESH-INTERVAL;VALUE=DURATION:PT1H
X-Robots-Tag:noindex
X-PUBLISHED-TTL:PT1H
BEGIN:VTIMEZONE
TZID:America/Kentucky/Louisville
BEGIN:DAYLIGHT
TZOFFSETFROM:-0500
TZOFFSETTO:-0400
TZNAME:EDT
DTSTART:20230312T070000
END:DAYLIGHT
BEGIN:STANDARD
TZOFFSETFROM:-0400
TZOFFSETTO:-0500
TZNAME:EST
DTSTART:20231105T060000
END:STANDARD
BEGIN:DAYLIGHT
TZOFFSETFROM:-0500
TZOFFSETTO:-0400
TZNAME:EDT
DTSTART:20240310T070000
END:DAYLIGHT
BEGIN:STANDARD
TZOFFSETFROM:-0400
TZOFFSETTO:-0500
TZNAME:EST
DTSTART:20241103T060000
END:STANDARD
BEGIN:DAYLIGHT
TZOFFSETFROM:-0500
TZOFFSETTO:-0400
TZNAME:EDT
DTSTART:20250309T070000
END:DAYLIGHT
BEGIN:STANDARD
TZOFFSETFROM:-0400
TZOFFSETTO:-0500
TZNAME:EST
DTSTART:20251102T060000
END:STANDARD
END:VTIMEZONE
BEGIN:VEVENT
DTSTART;TZID=America/Kentucky/Louisville:20241006T160000
DTEND;TZID=America/Kentucky/Louisville:20241006T180000
DTSTAMP:20260425T121357
CREATED:20240816T014037Z
LAST-MODIFIED:20240816T014037Z
UID:2225-1728230400-1728237600@m-m-m-b.org
SUMMARY:rehearsal
DESCRIPTION:Want to join our band of merry-makers? We welcome all ages and skill levels! \nMMMB ordinarily practices every Sunday afternoon at Artworks at the Carver School\, 522 Patterson Street. New band members should email us at info@m-m-m-b.org prior to joining a rehearsal\, so we can make sure to have sheet music and props available. \nWhen indoors\, the color guard and musicians usually rehearse in separate second floor classrooms\, with a joint period of announcements in the middle: \n–3:45-4:00 pm\, musicians arrive; warm-up \n–4:00-6:00\, color guard and musicians rehearse \n–break at 5-ish for announcements \nSome weeks\, when the color guard and musicians need to practice together\, the timing may be different. Some weeks\, the practice location may be different. Due to holidays and scheduling conflicts\, there will not be any practice some weeks. All schedule changes will be reflected on the private BAND app. \nAre kids and other guests welcome at practice?  \nKids who are serious about practicing are very welcome\, at the discretion of the Minister of the Grooves and the Ministers of the Moves. A parent/guardian should stay for practice\, as no one else in MMMB can take responsibility for watching them. Some teens who have demonstrated commitment to practice diligently may not need parents/guardians to stay\, but please know that they are not supervised at practice or at events. We have been very fortunate to have some awesome teen performers!  \nGuests are welcome to observe practice quietly\, and parents/guardians need to keep an eye on their own kids. There are not any extra adults to watch them\, and band members need to be able to concentrate on practice. Kids must keep themselves occupied and quiet. Even though we are a fun bunch\, we take practice seriously!
URL:https://m-m-m-b.org/event/rehearsal-106/
LOCATION:Artworks at the Carver School\, 522 Patterson St.\, Lexington\, KY\, 40508\, United States
CATEGORIES:rehearsal
END:VEVENT
BEGIN:VEVENT
DTSTART;TZID=America/Kentucky/Louisville:20241013T160000
DTEND;TZID=America/Kentucky/Louisville:20241013T180000
DTSTAMP:20260425T121357
CREATED:20240816T014119Z
LAST-MODIFIED:20240816T014119Z
UID:2227-1728835200-1728842400@m-m-m-b.org
SUMMARY:rehearsal
DESCRIPTION:Want to join our band of merry-makers? We welcome all ages and skill levels! \nMMMB ordinarily practices every Sunday afternoon at Artworks at the Carver School\, 522 Patterson Street. New band members should email us at info@m-m-m-b.org prior to joining a rehearsal\, so we can make sure to have sheet music and props available. \nWhen indoors\, the color guard and musicians usually rehearse in separate second floor classrooms\, with a joint period of announcements in the middle: \n–3:45-4:00 pm\, musicians arrive; warm-up \n–4:00-6:00\, color guard and musicians rehearse \n–break at 5-ish for announcements \nSome weeks\, when the color guard and musicians need to practice together\, the timing may be different. Some weeks\, the practice location may be different. Due to holidays and scheduling conflicts\, there will not be any practice some weeks. All schedule changes will be reflected on the private BAND app. \nAre kids and other guests welcome at practice?  \nKids who are serious about practicing are very welcome\, at the discretion of the Minister of the Grooves and the Ministers of the Moves. A parent/guardian should stay for practice\, as no one else in MMMB can take responsibility for watching them. Some teens who have demonstrated commitment to practice diligently may not need parents/guardians to stay\, but please know that they are not supervised at practice or at events. We have been very fortunate to have some awesome teen performers!  \nGuests are welcome to observe practice quietly\, and parents/guardians need to keep an eye on their own kids. There are not any extra adults to watch them\, and band members need to be able to concentrate on practice. Kids must keep themselves occupied and quiet. Even though we are a fun bunch\, we take practice seriously!
URL:https://m-m-m-b.org/event/rehearsal-107/
LOCATION:Artworks at the Carver School\, 522 Patterson St.\, Lexington\, KY\, 40508\, United States
CATEGORIES:rehearsal
END:VEVENT
BEGIN:VEVENT
DTSTART;TZID=America/Kentucky/Louisville:20241020T164500
DTEND;TZID=America/Kentucky/Louisville:20241020T210000
DTSTAMP:20260425T121357
CREATED:20240816T015004Z
LAST-MODIFIED:20241019T215118Z
UID:2235-1729442700-1729458000@m-m-m-b.org
SUMMARY:Thriller! Stage Showcase and Parade
DESCRIPTION:This annual tradition has become a local must-do event as Halloween enthusiasts of all ages descend on downtown Lexington to celebrate the season. Lexington’s largest free Halloween party will kick off with Halloween-inspired art and performances and culminate with the Halloween Parade and Thriller reenactment. Food and beverage vendors will be onsite serving up good eats and treats. \nThis event\, which has been named a Top 10 Halloween Destination by USA Today and was featured in the Top 25 Best Halloween Festivals Across the U.S. by Oprah Magazine\, is brought to you by Lexington Parks & Recreation\, Mecca Live Studio and WRFL. This event is free to the public. \nSunday\, Oct. 20 | 4:45 – 6 p.m.\nRobert F. Stephens Courthouse Plaza \nCurated by Mecca Live Studio\, this stage show features a DJ spinning spooky tunes and Halloween-inspired performances by Lexington area arts groups such as Mecca\, Dance Attack\, Traci Stone Dance Studio\, the March Madness Marching Band and many more. \nSunday\, Oct. 20 | 6:30 – 7 p.m.\nMain St. (between Quality St and Mill St.) \nWhat are you going to be for Halloween? Before the Thriller reenactment\, we hold a parade that is a celebration of all things Halloween! Join us in the parade to show off your creativity and Halloween spirit! \nSunday\, Oct. 20 | 7 – 9 p.m.\nMain St. (between Quality St and Mill St.) \nThe festivities culminate with the annual Thriller reenactment where several hundred zombies will dance\, dawdle and drag themselves down Main Street to the classic Michael Jackson tune. Pedestrians can watch all along the parade route.
URL:https://m-m-m-b.org/event/thriller-stage-showcase-and-parade/
LOCATION:Robert Stephens Courthouse Plaza\, 120 North Limestone Street\, Lexington\, KY\, 40507\, United States
CATEGORIES:performance
END:VEVENT
END:VCALENDAR